BEGIN:VCALENDAR
VERSION:2.0
PRODID:-//Mobil Digital - ECPv6.15.17.1//NONSGML v1.0//EN
CALSCALE:GREGORIAN
METHOD:PUBLISH
X-ORIGINAL-URL:https://mobil-digital.de
X-WR-CALDESC:Veranstaltungen für Mobil Digital
REFRESH-INTERVAL;VALUE=DURATION:PT1H
X-Robots-Tag:noindex
X-PUBLISHED-TTL:PT1H
BEGIN:VTIMEZONE
TZID:Europe/Berlin
BEGIN:DAYLIGHT
TZOFFSETFROM:+0100
TZOFFSETTO:+0200
TZNAME:CEST
DTSTART:20240331T010000
END:DAYLIGHT
BEGIN:STANDARD
TZOFFSETFROM:+0200
TZOFFSETTO:+0100
TZNAME:CET
DTSTART:20241027T010000
END:STANDARD
BEGIN:DAYLIGHT
TZOFFSETFROM:+0100
TZOFFSETTO:+0200
TZNAME:CEST
DTSTART:20250330T010000
END:DAYLIGHT
BEGIN:STANDARD
TZOFFSETFROM:+0200
TZOFFSETTO:+0100
TZNAME:CET
DTSTART:20251026T010000
END:STANDARD
BEGIN:DAYLIGHT
TZOFFSETFROM:+0100
TZOFFSETTO:+0200
TZNAME:CEST
DTSTART:20260329T010000
END:DAYLIGHT
BEGIN:STANDARD
TZOFFSETFROM:+0200
TZOFFSETTO:+0100
TZNAME:CET
DTSTART:20261025T010000
END:STANDARD
END:VTIMEZONE
BEGIN:VEVENT
DTSTART;TZID=Europe/Berlin:20250227T093000
DTEND;TZID=Europe/Berlin:20250227T163000
DTSTAMP:20260425T222852
CREATED:20250311T153325Z
LAST-MODIFIED:20250312T125213Z
UID:1027-1740648600-1740673800@mobil-digital.de
SUMMARY:Storytelling im Podcast & lokalisierte Audioanwendungen
DESCRIPTION:Teil der Veranstaltungsreihe „Narrative Welten: Storytelling analog und digital“ \n\n\n\nPodcasts (zusammengesetzt aus iPod und Broadcast\, dt. Hörstück) sind ein wichtiger Trend in der Medienlandschaft der letzten Jahre. Podcasts kommen in allen Formen und Farben\, vom ultraspezialisierten Hobby-Projekt bis zu Hochglanzshows mit Promi-Besetzung. Auch im Bildungsbereich lassen sich Podcasts sehr gut einsetzen: sei es als konkrete Begleitung zu Lernangeboten oder als Instrument des Bildungsmarketings. Mit geringem technischen Aufwand kann inzwischen jede*r eine Audiodatei erstellen und weltweit verfügbar machen. \n\n\n\nDieser Workshop richtet sich an alle\, die Ihre Audioinhalte im Unterricht und/oder Bildungsmarketing auf das nächste Level bringen möchten. Denn in einem Podcast hat man zwar theoretisch unendlich Zeit\, aber wer nimmt sich die Zeit das anzuhören?  Sie lernen Kniffe und Tricks\, um Ihre eigenen Hörgeschichten noch interessanter und packender zu gestalten. Sie erhalten praktische Tipps und Methoden für alle Phasen der Podcastproduktion\, die direkt in Ihren eigenen Projekten umgesetzt werden können. \n\n\n\nIm ersten Teil des Workshops werden wir mit Hilfe eines iPads und der kostenfreien App Garageband eine kurze Podcastfolge produzieren – inklusive Interview\, O-Tönen und Soundtrack. Im zweiten Teil werden wir uns anschauen\, wie Sie Ihre Audioproduktionen zu interaktiven Installationen verwandeln können – für Ausstellungen\, Stadtkarten und vieles mehr. \n\n\n\nReferent: Karl DamkeZielgruppe: Mitarbeitende aus Bibliotheken und Volkshochschulen in Schleswig-Holsteinmax. 12 TN
URL:https://mobil-digital.de/termine/storytelling-im-podcast-lokalisierte-audioanwendungen/
LOCATION:Gemeindebücherei Stockelsdorf\, Ahrensböker Str. 78\, Stockelsdorf\, 23617
CATEGORIES:Narrative Welten
ATTACH;FMTTYPE=image/jpeg:https://mobil-digital.de/wp-content/uploads/2025/03/Grafik-NarrativeWelten-BzVersion-mit-Nennung.jpg
END:VEVENT
END:VCALENDAR