BEGIN:VCALENDAR
VERSION:2.0
PRODID:-//Mobil Digital - ECPv6.15.17.1//NONSGML v1.0//EN
CALSCALE:GREGORIAN
METHOD:PUBLISH
X-ORIGINAL-URL:https://mobil-digital.de
X-WR-CALDESC:Veranstaltungen für Mobil Digital
REFRESH-INTERVAL;VALUE=DURATION:PT1H
X-Robots-Tag:noindex
X-PUBLISHED-TTL:PT1H
BEGIN:VTIMEZONE
TZID:Europe/Berlin
BEGIN:DAYLIGHT
TZOFFSETFROM:+0100
TZOFFSETTO:+0200
TZNAME:CEST
DTSTART:20240331T010000
END:DAYLIGHT
BEGIN:STANDARD
TZOFFSETFROM:+0200
TZOFFSETTO:+0100
TZNAME:CET
DTSTART:20241027T010000
END:STANDARD
BEGIN:DAYLIGHT
TZOFFSETFROM:+0100
TZOFFSETTO:+0200
TZNAME:CEST
DTSTART:20250330T010000
END:DAYLIGHT
BEGIN:STANDARD
TZOFFSETFROM:+0200
TZOFFSETTO:+0100
TZNAME:CET
DTSTART:20251026T010000
END:STANDARD
BEGIN:DAYLIGHT
TZOFFSETFROM:+0100
TZOFFSETTO:+0200
TZNAME:CEST
DTSTART:20260329T010000
END:DAYLIGHT
BEGIN:STANDARD
TZOFFSETFROM:+0200
TZOFFSETTO:+0100
TZNAME:CET
DTSTART:20261025T010000
END:STANDARD
END:VTIMEZONE
BEGIN:VEVENT
DTSTART;TZID=Europe/Berlin:20250325T090000
DTEND;TZID=Europe/Berlin:20250327T170000
DTSTAMP:20260425T223005
CREATED:20250214T113649Z
LAST-MODIFIED:20250320T135625Z
UID:285-1742893200-1743094800@mobil-digital.de
SUMMARY:Praxismesse
DESCRIPTION:Die zweite mobil.digital-Praxismesse von mobil.digital findet wieder in Rendsburg statt. Das aktualisierte Programm von mobil.digital zum Anfassen und Ausprobieren. Der mobil.digital-Bus kann mit allen neuen und etablierten Mitmach-Stationen erkundet werden. Wir stellen unsere Fortbildungsangebote und unsere neuen Ausleihboxen vor. Sie können jederzeit vorbeikommen zum offenen Angebot und alle Stationen praktisch erproben. Die Teilnahme ist selbstverständlich kostenfrei.
URL:https://mobil-digital.de/termine/praxismesse/
LOCATION:Halle der Landwirtschaftskammer\, Grüner Kamp 19-21\, Rendsburg\, 24768
ATTACH;FMTTYPE=image/jpeg:https://mobil-digital.de/wp-content/uploads/2025/02/banner-save-the-date-Praxismesse-2025-03.jpg
ORGANIZER;CN="mobil.digital":MAILTO:info@mobil-digital.de
END:VEVENT
END:VCALENDAR