BEGIN:VCALENDAR
VERSION:2.0
PRODID:-//Mobil Digital - ECPv6.15.17.1//NONSGML v1.0//EN
CALSCALE:GREGORIAN
METHOD:PUBLISH
X-WR-CALNAME:Mobil Digital
X-ORIGINAL-URL:https://mobil-digital.de
X-WR-CALDESC:Veranstaltungen für Mobil Digital
REFRESH-INTERVAL;VALUE=DURATION:PT1H
X-Robots-Tag:noindex
X-PUBLISHED-TTL:PT1H
BEGIN:VTIMEZONE
TZID:Europe/Berlin
BEGIN:DAYLIGHT
TZOFFSETFROM:+0100
TZOFFSETTO:+0200
TZNAME:CEST
DTSTART:20240331T010000
END:DAYLIGHT
BEGIN:STANDARD
TZOFFSETFROM:+0200
TZOFFSETTO:+0100
TZNAME:CET
DTSTART:20241027T010000
END:STANDARD
BEGIN:DAYLIGHT
TZOFFSETFROM:+0100
TZOFFSETTO:+0200
TZNAME:CEST
DTSTART:20250330T010000
END:DAYLIGHT
BEGIN:STANDARD
TZOFFSETFROM:+0200
TZOFFSETTO:+0100
TZNAME:CET
DTSTART:20251026T010000
END:STANDARD
BEGIN:DAYLIGHT
TZOFFSETFROM:+0100
TZOFFSETTO:+0200
TZNAME:CEST
DTSTART:20260329T010000
END:DAYLIGHT
BEGIN:STANDARD
TZOFFSETFROM:+0200
TZOFFSETTO:+0100
TZNAME:CET
DTSTART:20261025T010000
END:STANDARD
END:VTIMEZONE
BEGIN:VEVENT
DTSTART;TZID=Europe/Berlin:20250525T000000
DTEND;TZID=Europe/Berlin:20250525T235959
DTSTAMP:20260425T185219
CREATED:20250520T120611Z
LAST-MODIFIED:20250520T120614Z
UID:1577-1748131200-1748217599@mobil-digital.de
SUMMARY:Elmshorn Kinderkulturfest
DESCRIPTION:Am 25.05.2025 ist mobil.digital zu Gast in Elmshorn! Die Bücherei Elmshorn lädt herzlich ein zu einer Veranstaltung mit Kinderkulturfest – ein buntes Programm für große und kleine Besucherinnen und Besucher erwartet euch.Mit dabei: Programmieren für die Kleinsten (ab 4 Jahren) mit BeeBots und Bluebots / Druckgrafik trifft Makerspace: Stempeln und Drucken mit 3D-Drucker und Lasercutter \n\n\n\nKommt vorbei und entdeckt digitale Kreativität zum Anfassen!
URL:https://mobil-digital.de/termine/elmshorn-kinderkulturfest/
CATEGORIES:Öffentliche Veranstaltung
ATTACH;FMTTYPE=image/webp:https://mobil-digital.de/wp-content/uploads/2025/02/einsatzorte-modi-bis-2024.webp
END:VEVENT
END:VCALENDAR