BEGIN:VCALENDAR
VERSION:2.0
PRODID:-//Mobil Digital - ECPv6.15.17.1//NONSGML v1.0//EN
CALSCALE:GREGORIAN
METHOD:PUBLISH
X-WR-CALNAME:Mobil Digital
X-ORIGINAL-URL:https://mobil-digital.de
X-WR-CALDESC:Veranstaltungen für Mobil Digital
REFRESH-INTERVAL;VALUE=DURATION:PT1H
X-Robots-Tag:noindex
X-PUBLISHED-TTL:PT1H
BEGIN:VTIMEZONE
TZID:Europe/Berlin
BEGIN:DAYLIGHT
TZOFFSETFROM:+0100
TZOFFSETTO:+0200
TZNAME:CEST
DTSTART:20240331T010000
END:DAYLIGHT
BEGIN:STANDARD
TZOFFSETFROM:+0200
TZOFFSETTO:+0100
TZNAME:CET
DTSTART:20241027T010000
END:STANDARD
BEGIN:DAYLIGHT
TZOFFSETFROM:+0100
TZOFFSETTO:+0200
TZNAME:CEST
DTSTART:20250330T010000
END:DAYLIGHT
BEGIN:STANDARD
TZOFFSETFROM:+0200
TZOFFSETTO:+0100
TZNAME:CET
DTSTART:20251026T010000
END:STANDARD
BEGIN:DAYLIGHT
TZOFFSETFROM:+0100
TZOFFSETTO:+0200
TZNAME:CEST
DTSTART:20260329T010000
END:DAYLIGHT
BEGIN:STANDARD
TZOFFSETFROM:+0200
TZOFFSETTO:+0100
TZNAME:CET
DTSTART:20261025T010000
END:STANDARD
END:VTIMEZONE
BEGIN:VEVENT
DTSTART;TZID=Europe/Berlin:20250605T170000
DTEND;TZID=Europe/Berlin:20250605T180000
DTSTAMP:20260425T165441
CREATED:20250320T194946Z
LAST-MODIFIED:20250322T192823Z
UID:1444-1749142800-1749146400@mobil-digital.de
SUMMARY:Webinar: Vorstellung Ausleihbox "3D-Druck + Buchbinden"
DESCRIPTION:Unsere Ausleihbox „Buchbinden“ enthält alle Werkzeuge für einen Buchbinde-Workshop in Ihrer Einrichtung. Wer gerne genauer reinschauen möchte und insbesondere unsere mit dem 3D-Drucker hergestellten Werkzeuge kennenlernen möchte\, die/der darf sich gern zu diesem kostenfreien Webinar anmelden. Wir liefern die Buchbindebox immer zusammen mit einem kleinen3D-Drucker\, Filamenten sowie druckbaren Dateien\, um vor Ort weitere Werkzeuge zu drucken und die Verbindung zwischen analogen und digitalen Techniken herzustellen. \n\n\n\nHinweis zu unseren einstündigen Webinaren: Mit unseren kurzen Webinaren möchten wir die Tür öffnen zu neuen Themen und Angeboten. Wir möchten so u.a. Kursleitungen die Möglichkeit bieten\, in ein Thema reinzuschnuppern und zu überlegen\, ob sie es in ihre bestehenden Kurse integrieren oder neue Kurse dazu anbieten möchten. Es besteht die Möglichkeit\, anschließend eine intensive kostenfreie Fortbildung zu sich in die eigene Einrichtung zu holen. Gerne möchten wir in den Webinaren auch eine Plattform bieten zum Erfahrungsaustausch und zur Vernetzung für Kursleitungen und Bibliotheksmitarbeitende mit Vorerfahrung in diesem Themenbereich. Wir richten uns diesbezüglich gerne nach den Wünschen der Teilnehmenden. \n\n\n\nAnmeldung bitte per E-Mail an info@mobil-digital.de.
URL:https://mobil-digital.de/termine/webinar-vorstellung-ausleihbox-3d-druck-buchbinden/
CATEGORIES:Fortbildung
ATTACH;FMTTYPE=image/png:https://mobil-digital.de/wp-content/uploads/2025/03/Zeichenflaeche-3.png
ORGANIZER;CN="mobil.digital":MAILTO:info@mobil-digital.de
END:VEVENT
END:VCALENDAR