BEGIN:VCALENDAR
VERSION:2.0
PRODID:-//Mobil Digital - ECPv6.15.17.1//NONSGML v1.0//EN
CALSCALE:GREGORIAN
METHOD:PUBLISH
X-WR-CALNAME:Mobil Digital
X-ORIGINAL-URL:https://mobil-digital.de
X-WR-CALDESC:Veranstaltungen für Mobil Digital
REFRESH-INTERVAL;VALUE=DURATION:PT1H
X-Robots-Tag:noindex
X-PUBLISHED-TTL:PT1H
BEGIN:VTIMEZONE
TZID:Europe/Berlin
BEGIN:DAYLIGHT
TZOFFSETFROM:+0100
TZOFFSETTO:+0200
TZNAME:CEST
DTSTART:20240331T010000
END:DAYLIGHT
BEGIN:STANDARD
TZOFFSETFROM:+0200
TZOFFSETTO:+0100
TZNAME:CET
DTSTART:20241027T010000
END:STANDARD
BEGIN:DAYLIGHT
TZOFFSETFROM:+0100
TZOFFSETTO:+0200
TZNAME:CEST
DTSTART:20250330T010000
END:DAYLIGHT
BEGIN:STANDARD
TZOFFSETFROM:+0200
TZOFFSETTO:+0100
TZNAME:CET
DTSTART:20251026T010000
END:STANDARD
BEGIN:DAYLIGHT
TZOFFSETFROM:+0100
TZOFFSETTO:+0200
TZNAME:CEST
DTSTART:20260329T010000
END:DAYLIGHT
BEGIN:STANDARD
TZOFFSETFROM:+0200
TZOFFSETTO:+0100
TZNAME:CET
DTSTART:20261025T010000
END:STANDARD
END:VTIMEZONE
BEGIN:VEVENT
DTSTART;TZID=Europe/Berlin:20250717T000000
DTEND;TZID=Europe/Berlin:20250717T235959
DTSTAMP:20260425T145414
CREATED:20250701T112230Z
LAST-MODIFIED:20250701T112240Z
UID:1659-1752710400-1752796799@mobil-digital.de
SUMMARY:Barsbüttel
DESCRIPTION:mobil.digital besucht am 18.07.2025 Barsbüttel. Die VHS Barsbüttel lädt zur nachmittäglichen Runde für SeniorInnen im Bürgerhaus tohus und wir sind dabei. MIt im Gepäck: 3D-Druck\, digitale Alltagshelfer und VR!
URL:https://mobil-digital.de/termine/barsbuettel/
CATEGORIES:Öffentliche Veranstaltung
ATTACH;FMTTYPE=image/webp:https://mobil-digital.de/wp-content/uploads/2025/02/einsatzorte-modi-bis-2024.webp
END:VEVENT
END:VCALENDAR