BEGIN:VCALENDAR
VERSION:2.0
PRODID:-//Mobil Digital - ECPv6.15.17.1//NONSGML v1.0//EN
CALSCALE:GREGORIAN
METHOD:PUBLISH
X-ORIGINAL-URL:https://mobil-digital.de
X-WR-CALDESC:Veranstaltungen für Mobil Digital
REFRESH-INTERVAL;VALUE=DURATION:PT1H
X-Robots-Tag:noindex
X-PUBLISHED-TTL:PT1H
BEGIN:VTIMEZONE
TZID:Europe/Berlin
BEGIN:DAYLIGHT
TZOFFSETFROM:+0100
TZOFFSETTO:+0200
TZNAME:CEST
DTSTART:20250330T010000
END:DAYLIGHT
BEGIN:STANDARD
TZOFFSETFROM:+0200
TZOFFSETTO:+0100
TZNAME:CET
DTSTART:20251026T010000
END:STANDARD
BEGIN:DAYLIGHT
TZOFFSETFROM:+0100
TZOFFSETTO:+0200
TZNAME:CEST
DTSTART:20260329T010000
END:DAYLIGHT
BEGIN:STANDARD
TZOFFSETFROM:+0200
TZOFFSETTO:+0100
TZNAME:CET
DTSTART:20261025T010000
END:STANDARD
BEGIN:DAYLIGHT
TZOFFSETFROM:+0100
TZOFFSETTO:+0200
TZNAME:CEST
DTSTART:20270328T010000
END:DAYLIGHT
BEGIN:STANDARD
TZOFFSETFROM:+0200
TZOFFSETTO:+0100
TZNAME:CET
DTSTART:20271031T010000
END:STANDARD
END:VTIMEZONE
BEGIN:VEVENT
DTSTART;TZID=Europe/Berlin:20260311T170000
DTEND;TZID=Europe/Berlin:20260311T180000
DTSTAMP:20260421T005959
CREATED:20250813T111031Z
LAST-MODIFIED:20260204T093329Z
UID:1730-1773248400-1773252000@mobil-digital.de
SUMMARY:Webinar: Vorstellung der Ausleihkiste „Natur und Garten“
DESCRIPTION:Was ist Citizen Science? Was haben heimische Pflanzen und Vögel mit KI zu tun? Was ist ein Wifi-Mikroskop? Und ist mehr smarte Technik in Haus und Garten\, beispielsweise zur Bewässerung\, nun gut oder schlecht? Alle diese Fragen und Themen werden zu interessanten Gesprächen. Anlass dazu bietet der Inhalt unserer Ausleihbox „Natur und Garten“\, die wir im Rahmen dieses einstündigen Webinars vorstellen möchten. Und wie lässt sich all das für vhs und Bibliothek nutzbar machen? Auch diese Fragen beantworten wir und stellen verschiedene Konzepte vor\, die bereits erfolgreich von uns vor Ort durchgeführt wurden. \n\n\n\nFester Bestandteil des Webinars ist die Vorstellung des Inhalts der Ausleihbox. \n\n\n\nInhalt der Ausleihbox: \n\n\n\n\nWifi-Mikroskop mit Tablet\n\n\n\nFunktionsmodell eines Bewässerungssystems (als Gesprächsanlass für Automationen im Garten und im Haus bzw. SmartHome)\n\n\n\nApps zum Thema Citizen Science\, wie FloraIncognita\, BirdNet usw.\n\n\n\nApp „Bee active“ (Arten lernen und Gaming)\n\n\n\nApp „VR Honigbiene“ vom SWR inkl. Kopfhörer (Wie VR\, aber ohne VR Brille)\n\n\n\nPlastiklavendel (zur Erklärung „Was passiert\, wenn eine Pflanzenerkennungsapp eine Plastikblume vorgehalten bekommt? Wie schlau ist die KI diesbezüglich?)\n\n\n\nBild von einer Möhrenblüte (s.o.)\n\n\n\nBeschriftete Holztafeln mit Erklärungen und QR-Codes zu den Apps und Erklärvideos mit Metallclips (Wandmontage) und Schilderhaltern (wenn man alles auf dem Tisch platziert)\n\n\n\nAuf Wunsch Haba Spiel zur Erklärung „Wie funktioniert Bilderkennung mit KI?“\n\n\n\nAuf Wunsche eine Pflanztaschenwand aus grünem Filz\n\n\n\n\n \n\n\n\nHinweis zu unseren einstündigen Webinaren: Mit unseren kurzen Webinaren möchten wir die Tür öffnen zu neuen Themen und Angeboten. Wir möchten so u.a. Kursleitungen die Möglichkeit bieten\, in ein Thema reinzuschnuppern und zu überlegen\, ob sie es in ihre bestehenden Kurse integrieren oder neue Kurse dazu anbieten möchten. Es besteht die Möglichkeit\, anschließend eine intensive kostenfreie Fortbildung zu sich in die Einrichtung zu holen. Gerne möchten wir in den Webinaren auch eine Plattform bieten zum Erfahrungsaustausch und zur Vernetzung für Kursleitungen mit Vorerfahrung in diesem Themenbereich. Wir richten uns diesbezüglich gerne nach den Wünschen der Teilnehmenden. \n\n\n\nAnmeldung: Bitte schreiben Sie uns eine Mail an info@mobil-digital.de
URL:https://mobil-digital.de/termine/webinar-vorstellung-der-ausleihkiste-natur-und-garten/
LOCATION:Online\, Link erhalten Sie nach Anmeldung
CATEGORIES:Fortbildung
ATTACH;FMTTYPE=image/png:https://mobil-digital.de/wp-content/uploads/2025/03/Zeichenflaeche-3.png
END:VEVENT
END:VCALENDAR