BEGIN:VCALENDAR
VERSION:2.0
PRODID:-//Mobil Digital - ECPv6.15.17.1//NONSGML v1.0//EN
CALSCALE:GREGORIAN
METHOD:PUBLISH
X-WR-CALNAME:Mobil Digital
X-ORIGINAL-URL:https://mobil-digital.de
X-WR-CALDESC:Veranstaltungen für Mobil Digital
REFRESH-INTERVAL;VALUE=DURATION:PT1H
X-Robots-Tag:noindex
X-PUBLISHED-TTL:PT1H
BEGIN:VTIMEZONE
TZID:Europe/Berlin
BEGIN:DAYLIGHT
TZOFFSETFROM:+0100
TZOFFSETTO:+0200
TZNAME:CEST
DTSTART:20250330T010000
END:DAYLIGHT
BEGIN:STANDARD
TZOFFSETFROM:+0200
TZOFFSETTO:+0100
TZNAME:CET
DTSTART:20251026T010000
END:STANDARD
BEGIN:DAYLIGHT
TZOFFSETFROM:+0100
TZOFFSETTO:+0200
TZNAME:CEST
DTSTART:20260329T010000
END:DAYLIGHT
BEGIN:STANDARD
TZOFFSETFROM:+0200
TZOFFSETTO:+0100
TZNAME:CET
DTSTART:20261025T010000
END:STANDARD
BEGIN:DAYLIGHT
TZOFFSETFROM:+0100
TZOFFSETTO:+0200
TZNAME:CEST
DTSTART:20270328T010000
END:DAYLIGHT
BEGIN:STANDARD
TZOFFSETFROM:+0200
TZOFFSETTO:+0100
TZNAME:CET
DTSTART:20271031T010000
END:STANDARD
END:VTIMEZONE
BEGIN:VEVENT
DTSTART;TZID=Europe/Berlin:20260314T100000
DTEND;TZID=Europe/Berlin:20260314T170000
DTSTAMP:20260421T005759
CREATED:20260121T102558Z
LAST-MODIFIED:20260121T102609Z
UID:1874-1773482400-1773507600@mobil-digital.de
SUMMARY:Wedel: 3D-Druck für Familien
DESCRIPTION:mobil.digital unterstützt die vhs Wedel bei ihrem Angebot eines 3D-Druck-Tags für Familien. (Groß)Eltern und Kinder werden gemeinsam kreativ und lernen dabei moderne Technologie kennen. Am Ende des Tages können selbst gestalteter Schmuck\, Spielzeuge und Brettspiel-Zubehör mit nach Hause genommen werden.
URL:https://mobil-digital.de/termine/wedel-3d-druck-fuer-familien/
CATEGORIES:Workshop
ATTACH;FMTTYPE=image/gif:https://mobil-digital.de/wp-content/uploads/2025/02/einsatzorte-modi-bis-2024.gif
END:VEVENT
END:VCALENDAR