BEGIN:VCALENDAR
VERSION:2.0
PRODID:-//Mobil Digital - ECPv6.15.17.1//NONSGML v1.0//EN
CALSCALE:GREGORIAN
METHOD:PUBLISH
X-WR-CALNAME:Mobil Digital
X-ORIGINAL-URL:https://mobil-digital.de
X-WR-CALDESC:Veranstaltungen für Mobil Digital
REFRESH-INTERVAL;VALUE=DURATION:PT1H
X-Robots-Tag:noindex
X-PUBLISHED-TTL:PT1H
BEGIN:VTIMEZONE
TZID:Europe/Berlin
BEGIN:DAYLIGHT
TZOFFSETFROM:+0100
TZOFFSETTO:+0200
TZNAME:CEST
DTSTART:20250330T010000
END:DAYLIGHT
BEGIN:STANDARD
TZOFFSETFROM:+0200
TZOFFSETTO:+0100
TZNAME:CET
DTSTART:20251026T010000
END:STANDARD
BEGIN:DAYLIGHT
TZOFFSETFROM:+0100
TZOFFSETTO:+0200
TZNAME:CEST
DTSTART:20260329T010000
END:DAYLIGHT
BEGIN:STANDARD
TZOFFSETFROM:+0200
TZOFFSETTO:+0100
TZNAME:CET
DTSTART:20261025T010000
END:STANDARD
BEGIN:DAYLIGHT
TZOFFSETFROM:+0100
TZOFFSETTO:+0200
TZNAME:CEST
DTSTART:20270328T010000
END:DAYLIGHT
BEGIN:STANDARD
TZOFFSETFROM:+0200
TZOFFSETTO:+0100
TZNAME:CET
DTSTART:20271031T010000
END:STANDARD
END:VTIMEZONE
BEGIN:VEVENT
DTSTART;TZID=Europe/Berlin:20260424T143000
DTEND;TZID=Europe/Berlin:20260424T173000
DTSTAMP:20260420T233829
CREATED:20260121T103458Z
LAST-MODIFIED:20260121T103505Z
UID:1876-1777041000-1777051800@mobil-digital.de
SUMMARY:Plön: Workshop Buchbinden
DESCRIPTION:Für Mitarbeitende und Kund*innen der Stadtbücherei und vhs Plön gestalten wir einen Workshop rund ums Buchbinden und digitale Technologien. Mithilfe von 3D-gedruckten Werkzeugen werden A5-Notizhefte gefalten\, genäht und gebunden. Mit verschiedenen Papieren und Lasercutter gestalten wir individuelle Einbände\, die die Hefte zu Unikaten machen.  \n\n\n\nAnmeldung über die Stadtbücherei Plön.
URL:https://mobil-digital.de/termine/ploen-workshop-buchbinden/
CATEGORIES:Workshop
ATTACH;FMTTYPE=image/gif:https://mobil-digital.de/wp-content/uploads/2025/02/einsatzorte-modi-bis-2024.gif
END:VEVENT
END:VCALENDAR