BEGIN:VCALENDAR
VERSION:2.0
PRODID:-//Mobil Digital - ECPv6.15.17.1//NONSGML v1.0//EN
CALSCALE:GREGORIAN
METHOD:PUBLISH
X-ORIGINAL-URL:https://mobil-digital.de
X-WR-CALDESC:Veranstaltungen für Mobil Digital
REFRESH-INTERVAL;VALUE=DURATION:PT1H
X-Robots-Tag:noindex
X-PUBLISHED-TTL:PT1H
BEGIN:VTIMEZONE
TZID:Europe/Berlin
BEGIN:DAYLIGHT
TZOFFSETFROM:+0100
TZOFFSETTO:+0200
TZNAME:CEST
DTSTART:20250330T010000
END:DAYLIGHT
BEGIN:STANDARD
TZOFFSETFROM:+0200
TZOFFSETTO:+0100
TZNAME:CET
DTSTART:20251026T010000
END:STANDARD
BEGIN:DAYLIGHT
TZOFFSETFROM:+0100
TZOFFSETTO:+0200
TZNAME:CEST
DTSTART:20260329T010000
END:DAYLIGHT
BEGIN:STANDARD
TZOFFSETFROM:+0200
TZOFFSETTO:+0100
TZNAME:CET
DTSTART:20261025T010000
END:STANDARD
BEGIN:DAYLIGHT
TZOFFSETFROM:+0100
TZOFFSETTO:+0200
TZNAME:CEST
DTSTART:20270328T010000
END:DAYLIGHT
BEGIN:STANDARD
TZOFFSETFROM:+0200
TZOFFSETTO:+0100
TZNAME:CET
DTSTART:20271031T010000
END:STANDARD
END:VTIMEZONE
BEGIN:VEVENT
DTSTART;TZID=Europe/Berlin:20260509T000000
DTEND;TZID=Europe/Berlin:20260509T235959
DTSTAMP:20260421T012838
CREATED:20260112T145331Z
LAST-MODIFIED:20260114T084327Z
UID:1858-1778284800-1778371199@mobil-digital.de
SUMMARY:Büsum: Gratis-Comic-Tag
DESCRIPTION:Mit und in der Bücherei Büsum laden wir anlässlich des Gratis-Comic-Tags zu einem kreativen Workshop für Kinder und Jugendliche ab 8 Jahren ein. Gemeinsam erstellen die Teilnehmenden eigene Comics und lernen dabei\, auf dem Tablet mit einer App digital zu zeichnen. Schritt für Schritt entstehen individuelle Figuren\, Panels und kleine Geschichten. So können die TeilnehmerInnen ihren ganz persönlichen Comic mit nach Hause nehmen. \n\n\n\nWo? — Gemeidebücherei Büsum\, An d. Mühle 7\, 25761 Büsum
URL:https://mobil-digital.de/termine/buesum-gratis-comic-tag/
CATEGORIES:Öffentliche Veranstaltung
ATTACH;FMTTYPE=image/gif:https://mobil-digital.de/wp-content/uploads/2025/02/einsatzorte-modi-bis-2024.gif
END:VEVENT
END:VCALENDAR