BEGIN:VCALENDAR
VERSION:2.0
PRODID:-//Mobil Digital - ECPv6.15.17.1//NONSGML v1.0//EN
CALSCALE:GREGORIAN
METHOD:PUBLISH
X-ORIGINAL-URL:https://mobil-digital.de
X-WR-CALDESC:Veranstaltungen für Mobil Digital
REFRESH-INTERVAL;VALUE=DURATION:PT1H
X-Robots-Tag:noindex
X-PUBLISHED-TTL:PT1H
BEGIN:VTIMEZONE
TZID:Europe/Berlin
BEGIN:DAYLIGHT
TZOFFSETFROM:+0100
TZOFFSETTO:+0200
TZNAME:CEST
DTSTART:20250330T010000
END:DAYLIGHT
BEGIN:STANDARD
TZOFFSETFROM:+0200
TZOFFSETTO:+0100
TZNAME:CET
DTSTART:20251026T010000
END:STANDARD
BEGIN:DAYLIGHT
TZOFFSETFROM:+0100
TZOFFSETTO:+0200
TZNAME:CEST
DTSTART:20260329T010000
END:DAYLIGHT
BEGIN:STANDARD
TZOFFSETFROM:+0200
TZOFFSETTO:+0100
TZNAME:CET
DTSTART:20261025T010000
END:STANDARD
BEGIN:DAYLIGHT
TZOFFSETFROM:+0100
TZOFFSETTO:+0200
TZNAME:CEST
DTSTART:20270328T010000
END:DAYLIGHT
BEGIN:STANDARD
TZOFFSETFROM:+0200
TZOFFSETTO:+0100
TZNAME:CET
DTSTART:20271031T010000
END:STANDARD
END:VTIMEZONE
BEGIN:VEVENT
DTSTART;TZID=Europe/Berlin:20260422T000000
DTEND;TZID=Europe/Berlin:20260422T235959
DTSTAMP:20260420T214004
CREATED:20260216T141307Z
LAST-MODIFIED:20260216T141319Z
UID:1944-1776816000-1776902399@mobil-digital.de
SUMMARY:Henstedt-Ulzburg: Robotik-Fortbildung
DESCRIPTION:Mitarbeitende der Bibliothek in Henstedt-Ulzburg explorieren mit der Hilfe von mobil.digital\, welche weiteren Möglichkeiten die vorhandenen Robotik-Geräte für die Medienkompetenzaufgabe der Einrichtung eröffnen.
URL:https://mobil-digital.de/termine/henstedt-ulzburg-robotik-fortbildung/
CATEGORIES:Fortbildung
ATTACH;FMTTYPE=image/gif:https://mobil-digital.de/wp-content/uploads/2025/02/einsatzorte-modi-bis-2024.gif
END:VEVENT
BEGIN:VEVENT
DTSTART;TZID=Europe/Berlin:20260424T143000
DTEND;TZID=Europe/Berlin:20260424T173000
DTSTAMP:20260420T214004
CREATED:20260121T103458Z
LAST-MODIFIED:20260121T103505Z
UID:1876-1777041000-1777051800@mobil-digital.de
SUMMARY:Plön: Workshop Buchbinden
DESCRIPTION:Für Mitarbeitende und Kund*innen der Stadtbücherei und vhs Plön gestalten wir einen Workshop rund ums Buchbinden und digitale Technologien. Mithilfe von 3D-gedruckten Werkzeugen werden A5-Notizhefte gefalten\, genäht und gebunden. Mit verschiedenen Papieren und Lasercutter gestalten wir individuelle Einbände\, die die Hefte zu Unikaten machen.  \n\n\n\nAnmeldung über die Stadtbücherei Plön.
URL:https://mobil-digital.de/termine/ploen-workshop-buchbinden/
CATEGORIES:Workshop
ATTACH;FMTTYPE=image/gif:https://mobil-digital.de/wp-content/uploads/2025/02/einsatzorte-modi-bis-2024.gif
END:VEVENT
BEGIN:VEVENT
DTSTART;TZID=Europe/Berlin:20260504T160000
DTEND;TZID=Europe/Berlin:20260504T190000
DTSTAMP:20260420T214004
CREATED:20260416T093322Z
LAST-MODIFIED:20260416T093332Z
UID:2059-1777910400-1777921200@mobil-digital.de
SUMMARY:Kiel: Workshop: KI kreativ & nützlich einsetzen
DESCRIPTION:Mit und in der Stadtbücherei Kiel (Zentralbücherei im Neuen Rathaus) bietet mobil.digital einen kurzen Workshop an\, der zeigt\, wie KI-Tools für ganz unterschiedliche Hobbys und Interessen genutzt werden können – von der Erstellung eigener Stickvorlagen über Pflanzenerkennung bis hin zu Recherche- und Kreativanwendungen. Die Teilnehmenden arbeiten direkt an bereitgestellter Technik und können verschiedene Anwendungen selbst testen. Vorkenntnisse sind nicht erforderlich.  \n\n\n\nTermine: 16:00 Uhr\, 17:00 Uhr und 18:00 Uhr.  \n\n\n\nKostenlose Anmeldung unter 0431/901-3437 oder stadtbuecherei.event@kiel.de
URL:https://mobil-digital.de/termine/kiel-workshop-ki-kreativ-nuetzlich-einsetzen/
CATEGORIES:Workshop
ATTACH;FMTTYPE=image/gif:https://mobil-digital.de/wp-content/uploads/2025/02/einsatzorte-modi-bis-2024.gif
END:VEVENT
BEGIN:VEVENT
DTSTART;TZID=Europe/Berlin:20260505T000000
DTEND;TZID=Europe/Berlin:20260505T235959
DTSTAMP:20260420T214004
CREATED:20260416T092658Z
LAST-MODIFIED:20260416T095456Z
UID:2057-1777939200-1778025599@mobil-digital.de
SUMMARY:Kiel: Aktionstag „Digitale Teilhabe – gemeinsam vernetzt“
DESCRIPTION:mobil.digital ist dabei beim Aktionstag „Digitale Teilhabe — gemeinsam vernetzt“\, der im Rahmen der Digitalen Woche Kiel organisiert wird. In der S(ch)nackpause von 12:00-12:45 Uhr findet ihr uns beim Markt der Möglichkeiten. Kommt gern vorbei und tauscht euch aus mit uns und vielen anderen interessanten Institutionen!  \n\n\n\nAktionstag „Digitale Teilhabe – gemeinsam vernetzt“ (Digitale Woche Kiel)9:30-15:00 UhrIHK zu KielBergstraße 2\, 24013 Kiel \n\n\n\nDetails und Anmeldung auf der Webseite der Digitalen Woche Kiel (s.u.)
URL:https://mobil-digital.de/termine/aktionstag-digitale-teilhabe-gemeinsam-vernetzt/
CATEGORIES:Öffentliche Veranstaltung
ATTACH;FMTTYPE=image/gif:https://mobil-digital.de/wp-content/uploads/2025/02/einsatzorte-modi-bis-2024.gif
END:VEVENT
BEGIN:VEVENT
DTSTART;TZID=Europe/Berlin:20260506T093000
DTEND;TZID=Europe/Berlin:20260507T163000
DTSTAMP:20260420T214004
CREATED:20251110T133051Z
LAST-MODIFIED:20260416T095047Z
UID:1827-1778059800-1778171400@mobil-digital.de
SUMMARY:Rendsburg: Ideenwerkstatt Medienprojekte
DESCRIPTION:Die Teams von der Stabstelle Medienkompetenz von Bibliotheken SH und mobil.digital laden ein zur zweitätigen Ideenwerkstatt rund um mediale Projekte und Themen. Hier können Projektideen ausgestaltet\, Projektanträge erarbeitet\, konkrete Medienprojekte umgesetzt und verschiedenste Geräte und Digitaltechniken ausprobiert werden. Teilnehmende können auf die Geräte und die Expertise der beiden Teams zurückgreifen und die zwei Tage nutzen\, um im kollegialen Austausch Projekte voranzubringen. \n\n\n\nDie Ideenwerkstatt wird an zwei Tagen bei Bibliotheken SH in Rendsburg stattfinden. \n\n\n\nAnmeldung über das online-Fortbildungsverzeichnis von Bibliotheken SH.
URL:https://mobil-digital.de/termine/ideenwerkstatt-medienprojekte/
CATEGORIES:Fortbildung
ATTACH;FMTTYPE=image/jpeg:https://mobil-digital.de/wp-content/uploads/2025/03/220511_Logo_mobildigital.jpg
END:VEVENT
BEGIN:VEVENT
DTSTART;TZID=Europe/Berlin:20260509T000000
DTEND;TZID=Europe/Berlin:20260509T235959
DTSTAMP:20260420T214004
CREATED:20260112T145331Z
LAST-MODIFIED:20260114T084327Z
UID:1858-1778284800-1778371199@mobil-digital.de
SUMMARY:Büsum: Gratis-Comic-Tag
DESCRIPTION:Mit und in der Bücherei Büsum laden wir anlässlich des Gratis-Comic-Tags zu einem kreativen Workshop für Kinder und Jugendliche ab 8 Jahren ein. Gemeinsam erstellen die Teilnehmenden eigene Comics und lernen dabei\, auf dem Tablet mit einer App digital zu zeichnen. Schritt für Schritt entstehen individuelle Figuren\, Panels und kleine Geschichten. So können die TeilnehmerInnen ihren ganz persönlichen Comic mit nach Hause nehmen. \n\n\n\nWo? — Gemeidebücherei Büsum\, An d. Mühle 7\, 25761 Büsum
URL:https://mobil-digital.de/termine/buesum-gratis-comic-tag/
CATEGORIES:Öffentliche Veranstaltung
ATTACH;FMTTYPE=image/gif:https://mobil-digital.de/wp-content/uploads/2025/02/einsatzorte-modi-bis-2024.gif
END:VEVENT
BEGIN:VEVENT
DTSTART;TZID=Europe/Berlin:20260606T000000
DTEND;TZID=Europe/Berlin:20260606T235959
DTSTAMP:20260420T214004
CREATED:20260112T142028Z
LAST-MODIFIED:20260204T093922Z
UID:1852-1780704000-1780790399@mobil-digital.de
SUMMARY:Hörspiel leicht gemacht! Workshop in Flintbek (Anmeldung möglich)
DESCRIPTION:Achtung\, Aufnahme! – ein Rascheln\, ein Flüstern\, ein Geräusch aus dem Off – und schon entsteht eine ganze Welt im Kopf. In diesem Workshop entdeckst Du\, wie Geschichten hörbar werden: Mit Stimme\, Klang und Fantasie begeistern sie alle Altersgruppen. \n\n\n\nDie von mobil.digital mitgebrachten iPads sind mit der App „Audio Adventure“ ausgestattet. Diese Kombination ermöglicht es Dir\, mit wenig Technik- und Zeitaufwand kreativ und ganz ohne Tonstudio Hörspiele zu produzieren. Die App bietet EinsteigerInnen jeden Alters einen barrierefreien Einstieg\, da sie mit Piktogrammen arbeitet. Bestens geeignet für den Einsatz in der Bibliothek als generationsübergreifender Workshop oder für Sprachkurse in der Volkshochschule.  \n\n\n\nKlingt spannend? – Anmelden kannst Du Dich kostenfrei! Unser Workshop am 6.6.2026 richtet sich ganz besonders auch an Menschen unter 18 Jahren! \n\n\n\nWo? – Gemeindebücherei Flintbek\, Kätnerskamp 6\, 24220 Flintbek \n\n\n\nAnmeldung bei der Bücherei Flintbek\, Fragen gern auch an info@mobil-digital.de
URL:https://mobil-digital.de/termine/hoerspiel-leicht-gemacht-workshop-in-flintbek-anmeldung-moeglich/
CATEGORIES:Workshop
ATTACH;FMTTYPE=image/gif:https://mobil-digital.de/wp-content/uploads/2025/02/einsatzorte-modi-bis-2024.gif
END:VEVENT
BEGIN:VEVENT
DTSTART;TZID=Europe/Berlin:20260613T000000
DTEND;TZID=Europe/Berlin:20260613T235959
DTSTAMP:20260420T214004
CREATED:20260416T095745Z
LAST-MODIFIED:20260416T095752Z
UID:2065-1781308800-1781395199@mobil-digital.de
SUMMARY:Trittau
DESCRIPTION:
URL:https://mobil-digital.de/termine/trittau/
CATEGORIES:Öffentliche Veranstaltung
ATTACH;FMTTYPE=image/gif:https://mobil-digital.de/wp-content/uploads/2025/02/einsatzorte-modi-bis-2024.gif
END:VEVENT
BEGIN:VEVENT
DTSTART;TZID=Europe/Berlin:20260614T000000
DTEND;TZID=Europe/Berlin:20260614T235959
DTSTAMP:20260420T214004
CREATED:20260416T095904Z
LAST-MODIFIED:20260416T095929Z
UID:2067-1781395200-1781481599@mobil-digital.de
SUMMARY:Gettorf
DESCRIPTION:
URL:https://mobil-digital.de/termine/gettorf/
CATEGORIES:Öffentliche Veranstaltung
ATTACH;FMTTYPE=image/gif:https://mobil-digital.de/wp-content/uploads/2025/02/einsatzorte-modi-bis-2024.gif
END:VEVENT
BEGIN:VEVENT
DTSTART;TZID=Europe/Berlin:20260626T000000
DTEND;TZID=Europe/Berlin:20260626T235959
DTSTAMP:20260420T214004
CREATED:20260112T151907Z
LAST-MODIFIED:20260416T094124Z
UID:1864-1782432000-1782518399@mobil-digital.de
SUMMARY:Schleswig: Digitaltag
DESCRIPTION:Anlässlich des Digitaltags fahren wir nach Schleswig und veranstalten ein kreatives Programm mit der Stadtbücherei. (Details folgen)
URL:https://mobil-digital.de/termine/schleswig-digitaltag/
CATEGORIES:Öffentliche Veranstaltung
ATTACH;FMTTYPE=image/gif:https://mobil-digital.de/wp-content/uploads/2025/02/einsatzorte-modi-bis-2024.gif
END:VEVENT
BEGIN:VEVENT
DTSTART;TZID=Europe/Berlin:20260703T000000
DTEND;TZID=Europe/Berlin:20260703T235959
DTSTAMP:20260420T214004
CREATED:20260416T100814Z
LAST-MODIFIED:20260416T100824Z
UID:2069-1783036800-1783123199@mobil-digital.de
SUMMARY:Molfsee
DESCRIPTION:
URL:https://mobil-digital.de/termine/molfsee/
CATEGORIES:Öffentliche Veranstaltung
ATTACH;FMTTYPE=image/gif:https://mobil-digital.de/wp-content/uploads/2025/02/einsatzorte-modi-bis-2024.gif
END:VEVENT
BEGIN:VEVENT
DTSTART;TZID=Europe/Berlin:20260816T000000
DTEND;TZID=Europe/Berlin:20260816T235959
DTSTAMP:20260420T214004
CREATED:20260416T103349Z
LAST-MODIFIED:20260416T103357Z
UID:2079-1786838400-1786924799@mobil-digital.de
SUMMARY:Kropp
DESCRIPTION:
URL:https://mobil-digital.de/termine/kropp/
CATEGORIES:Öffentliche Veranstaltung
ATTACH;FMTTYPE=image/gif:https://mobil-digital.de/wp-content/uploads/2025/02/einsatzorte-modi-bis-2024.gif
END:VEVENT
BEGIN:VEVENT
DTSTART;TZID=Europe/Berlin:20260903T000000
DTEND;TZID=Europe/Berlin:20260903T235959
DTSTAMP:20260420T214004
CREATED:20260416T103159Z
LAST-MODIFIED:20260416T103210Z
UID:2077-1788393600-1788479999@mobil-digital.de
SUMMARY:Bad Oldesloe
DESCRIPTION:
URL:https://mobil-digital.de/termine/bad-oldesloe/
CATEGORIES:Öffentliche Veranstaltung
ATTACH;FMTTYPE=image/gif:https://mobil-digital.de/wp-content/uploads/2025/02/einsatzorte-modi-bis-2024.gif
END:VEVENT
BEGIN:VEVENT
DTSTART;TZID=Europe/Berlin:20260905T000000
DTEND;TZID=Europe/Berlin:20260905T235959
DTSTAMP:20260420T214004
CREATED:20260416T101121Z
LAST-MODIFIED:20260416T101133Z
UID:2071-1788566400-1788652799@mobil-digital.de
SUMMARY:Leck
DESCRIPTION:
URL:https://mobil-digital.de/termine/leck/
CATEGORIES:Öffentliche Veranstaltung
ATTACH;FMTTYPE=image/gif:https://mobil-digital.de/wp-content/uploads/2025/02/einsatzorte-modi-bis-2024.gif
END:VEVENT
BEGIN:VEVENT
DTSTART;TZID=Europe/Berlin:20260912T000000
DTEND;TZID=Europe/Berlin:20260912T235959
DTSTAMP:20260420T214004
CREATED:20260416T102047Z
LAST-MODIFIED:20260416T102058Z
UID:2073-1789171200-1789257599@mobil-digital.de
SUMMARY:Laboe
DESCRIPTION:
URL:https://mobil-digital.de/termine/laboe-2/
CATEGORIES:Öffentliche Veranstaltung
ATTACH;FMTTYPE=image/gif:https://mobil-digital.de/wp-content/uploads/2025/02/einsatzorte-modi-bis-2024.gif
END:VEVENT
BEGIN:VEVENT
DTSTART;TZID=Europe/Berlin:20260912T000000
DTEND;TZID=Europe/Berlin:20260912T235959
DTSTAMP:20260420T214004
CREATED:20260416T102313Z
LAST-MODIFIED:20260416T102323Z
UID:2075-1789171200-1789257599@mobil-digital.de
SUMMARY:Schwentinental-Raisdorf
DESCRIPTION:
URL:https://mobil-digital.de/termine/schwentinental-raisdorf/
CATEGORIES:Öffentliche Veranstaltung
ATTACH;FMTTYPE=image/gif:https://mobil-digital.de/wp-content/uploads/2025/02/einsatzorte-modi-bis-2024.gif
END:VEVENT
BEGIN:VEVENT
DTSTART;TZID=Europe/Berlin:20260919T000000
DTEND;TZID=Europe/Berlin:20260919T235959
DTSTAMP:20260420T214004
CREATED:20260112T150030Z
LAST-MODIFIED:20260416T094042Z
UID:1862-1789776000-1789862399@mobil-digital.de
SUMMARY:Wesselburen: Weltkindertag
DESCRIPTION:Mit der Bücherei Wesselburen feiern wir den Weltkindertag und laden ein zum kreativen Mitmach-Workshop in der Bücherei. Die Teilnehmenden lernen\, auf dem iPad digital zu zeichnen und eigene Motive zu gestalten. Anschließend werden die Designs mit dem Lasercutter auf Holzscheiben graviert. So entsteht ein einzigartiges Erinnerungsstück\, das Kinder und Familien stolz mit nach Hause nehmen können.
URL:https://mobil-digital.de/termine/wesselburen-weltkindertag/
CATEGORIES:Öffentliche Veranstaltung
ATTACH;FMTTYPE=image/gif:https://mobil-digital.de/wp-content/uploads/2025/02/einsatzorte-modi-bis-2024.gif
END:VEVENT
END:VCALENDAR