BEGIN:VCALENDAR
VERSION:2.0
PRODID:-//Mobil Digital - ECPv6.15.17.1//NONSGML v1.0//EN
CALSCALE:GREGORIAN
METHOD:PUBLISH
X-WR-CALNAME:Mobil Digital
X-ORIGINAL-URL:https://mobil-digital.de
X-WR-CALDESC:Veranstaltungen für Mobil Digital
REFRESH-INTERVAL;VALUE=DURATION:PT1H
X-Robots-Tag:noindex
X-PUBLISHED-TTL:PT1H
BEGIN:VTIMEZONE
TZID:Europe/Berlin
BEGIN:DAYLIGHT
TZOFFSETFROM:+0100
TZOFFSETTO:+0200
TZNAME:CEST
DTSTART:20230326T010000
END:DAYLIGHT
BEGIN:STANDARD
TZOFFSETFROM:+0200
TZOFFSETTO:+0100
TZNAME:CET
DTSTART:20231029T010000
END:STANDARD
BEGIN:DAYLIGHT
TZOFFSETFROM:+0100
TZOFFSETTO:+0200
TZNAME:CEST
DTSTART:20240331T010000
END:DAYLIGHT
BEGIN:STANDARD
TZOFFSETFROM:+0200
TZOFFSETTO:+0100
TZNAME:CET
DTSTART:20241027T010000
END:STANDARD
BEGIN:DAYLIGHT
TZOFFSETFROM:+0100
TZOFFSETTO:+0200
TZNAME:CEST
DTSTART:20250330T010000
END:DAYLIGHT
BEGIN:STANDARD
TZOFFSETFROM:+0200
TZOFFSETTO:+0100
TZNAME:CET
DTSTART:20251026T010000
END:STANDARD
END:VTIMEZONE
BEGIN:VEVENT
DTSTART;TZID=Europe/Berlin:20241105T100000
DTEND;TZID=Europe/Berlin:20241105T120000
DTSTAMP:20260426T041846
CREATED:20250311T130807Z
LAST-MODIFIED:20250317T114001Z
UID:981-1730800800-1730808000@mobil-digital.de
SUMMARY:Grundlagenwebinar 1 – Was ist eigentlich Storytelling?
DESCRIPTION:Teil der Veranstaltungsreihe „Narrative Welten: Storytelling analog und digital“ \n\n\n\nMenschen erzählen Geschichten – immer und überall. Diese fundamentale menschliche Aktivität durchdringt alle Bereiche unseres Lebens\, von alltäglichen Gesprächen bis hin zu komplexen beruflichen Kontexten. Doch was genau verstehen wir eigentlich unter Storytelling\, und wo begegnet es uns im Alltag oder im Berufsleben? Ziel des ersten Grundlagenwebinars ist es\, ein tiefgreifenderes Verständnis für die Bedeutung und Allgegenwärtigkeit von Storytelling zu vermitteln. Dieses Wissen gilt als Grundlage für die weiteren Workshops und Fortbildungsangebote der Reihe „Narrative Welten: Storytelling analog und digital“ \n\n\n\nDieser Grundlagenworkshop stellt einen von zwei vorbereitenden Webinaren der modularen Storytelling-Fortbildungsreihe „Narrative Welten“ dar. Wir empfehlen\, beide Webinare vor dem Besuch der einzelnen Fortbildungen anzusehen. Die live-Webinare werden zu diesem Zweck aufgezeichnet und für späteres Nachsehen online verfügbar gemacht. \n\n\n\nReferent: Andreas LangerZielgruppe: Mitarbeitende aus Bibliotheken und Volkshochschulen in Schleswig-HolsteinOrt: Webinar (Zoom)max. TN-Zahl: 50
URL:https://mobil-digital.de/termine/grundlagenwebinar-1-was-ist-eigentlich-storytelling/
CATEGORIES:Narrative Welten
ATTACH;FMTTYPE=image/jpeg:https://mobil-digital.de/wp-content/uploads/2025/03/Grafik-NarrativeWelten-BzVersion-mit-Nennung.jpg
END:VEVENT
BEGIN:VEVENT
DTSTART;TZID=Europe/Berlin:20241119T100000
DTEND;TZID=Europe/Berlin:20241119T120000
DTSTAMP:20260426T041846
CREATED:20250311T152047Z
LAST-MODIFIED:20250312T131232Z
UID:1008-1732010400-1732017600@mobil-digital.de
SUMMARY:Grundlagenwebinar 2 – Storyboard erstellen
DESCRIPTION:Teil der Veranstaltungsreihe „Narrative Welten: Storytelling analog und digital“ \n\n\n\nEntdecken Sie eine der wichtigsten Grundlagen für den Einstieg in die kreative Welt der Medienproduktion: die Erstellung von Storyboards! \n\n\n\nEin Storyboard ist eine grafische Darstellung\, die die einzelnen Szenen eines Films\, Comics oder anderer Geschichtenformen in einer Bilderreihe skizziert und dabei technische Anweisungen und Entscheidungen festhält. Es hilft dabei\, die Kernelemente der Erzählung zu veranschaulichen\, den Ablauf der Erzählung zu strukturieren und die anschließende Gruppenarbeit zu planen. In abgewandelter Form hilft es als wichtiges Planungstool nicht nur für visuelle\, sondern auch für auditive Medien\, wie Hörbücher\, (Video-)Spiele und multimediale Projekte. \n\n\n\nBevor wir in späteren Modulen der Fortbildungsreihe „Narrative Welten“ in die eigentliche Medienproduktion einsteigen\, erfahren Sie in dieser praxisorientierten Fortbildung zu Storyboards\, wie Sie diesen wichtigen Zwischenschritt meistern und dabei die Besonderheiten unterschiedlicher Erzählformen berücksichtigen. Am Ende des Webinars werden Sie in der Lage sein\, Ihre kreativen Geschichten in visuelle und schnell erfassbare Tabellen umzusetzen. \n\n\n\nBringen Sie gerne eine kurze Geschichte\, Anekdote oder Ihren Lieblingswitz mit. Während der Fortbildung werden unterschiedliche Storyboard-Vorlagen vorgestellt\, die Sie ausprobieren können. Die Vorlagen\, die sich besonders für den Einsatz in Volkshochschulkursen und Bibliotheks-Workshops eignen\, werden im Anschluss zur Verfügung gestellt. \n\n\n\nDieser Grundlagenworkshop stellt einen von zwei vorbereitenden Webinaren der modularen Storytelling-Fortbildungsreihe „Narrative Welten“ dar. Wir empfehlen\, beide Webinare vor dem Besuch der einzelnen Fortbildungen anzusehen. Die live-Webinare werden zu diesem Zweck aufgezeichnet und online verfügbar gemacht. \n\n\n\nReferentin: Katharina KrügerZielgruppe: Mitarbeitende aus Bibliotheken und Volkshochschulen in Schleswig-HolsteinTN-Gebühr: kostenfreiOrt: Webinar (Zoom)max. TN-Zahl: 50
URL:https://mobil-digital.de/termine/grundlagenwebinar-2-storyboard-erstellen/
CATEGORIES:Narrative Welten
ATTACH;FMTTYPE=image/jpeg:https://mobil-digital.de/wp-content/uploads/2025/03/Grafik-NarrativeWelten-BzVersion-mit-Nennung.jpg
END:VEVENT
END:VCALENDAR