BEGIN:VCALENDAR
VERSION:2.0
PRODID:-//Mobil Digital - ECPv6.15.17.1//NONSGML v1.0//EN
CALSCALE:GREGORIAN
METHOD:PUBLISH
X-ORIGINAL-URL:https://mobil-digital.de
X-WR-CALDESC:Veranstaltungen für Mobil Digital
REFRESH-INTERVAL;VALUE=DURATION:PT1H
X-Robots-Tag:noindex
X-PUBLISHED-TTL:PT1H
BEGIN:VTIMEZONE
TZID:Europe/Berlin
BEGIN:DAYLIGHT
TZOFFSETFROM:+0100
TZOFFSETTO:+0200
TZNAME:CEST
DTSTART:20240331T010000
END:DAYLIGHT
BEGIN:STANDARD
TZOFFSETFROM:+0200
TZOFFSETTO:+0100
TZNAME:CET
DTSTART:20241027T010000
END:STANDARD
BEGIN:DAYLIGHT
TZOFFSETFROM:+0100
TZOFFSETTO:+0200
TZNAME:CEST
DTSTART:20250330T010000
END:DAYLIGHT
BEGIN:STANDARD
TZOFFSETFROM:+0200
TZOFFSETTO:+0100
TZNAME:CET
DTSTART:20251026T010000
END:STANDARD
BEGIN:DAYLIGHT
TZOFFSETFROM:+0100
TZOFFSETTO:+0200
TZNAME:CEST
DTSTART:20260329T010000
END:DAYLIGHT
BEGIN:STANDARD
TZOFFSETFROM:+0200
TZOFFSETTO:+0100
TZNAME:CET
DTSTART:20261025T010000
END:STANDARD
END:VTIMEZONE
BEGIN:VEVENT
DTSTART;TZID=Europe/Berlin:20250312T093000
DTEND;TZID=Europe/Berlin:20250312T163000
DTSTAMP:20260425T204747
CREATED:20250311T153647Z
LAST-MODIFIED:20250312T125139Z
UID:1031-1741771800-1741797000@mobil-digital.de
SUMMARY:Location-based Storytelling 2 (Eutin)
DESCRIPTION:Teil der Veranstaltungsreihe „Narrative Welten: Storytelling analog und digital“ \n\n\n\nEntdecke die Magie des location-based Storytellings in unserem Workshop\, in dem wir mit Hilfe der Actionbound-App\, Figuren aus dem 3D-Drucker sowie Escape-Room-Elementen die verborgenen Geschichten eurer Bibliotheken und Volkshochschulen zum Leben erwecken. Lerne\, interaktive Erzählungen zu gestalten\, die Geschichte und Gegenwart verbinden und die Kreativität beflügeln. Keine Vorkenntnisse nötig – nur Neugier und Kreativität. Mach mit und verwandle deine Einrichtung in einen Ort lebendiger Geschichten! \n\n\n\nDie Fortbildungen „Location-based Storytelling 1 & 2“ finden parallel zueinander an zwei Orten statt. Diese Veranstaltung wird in den Räumen der Kreisbibliothek Eutin stattfinden. \n\n\n\nReferent: Katharina KrügerZielgruppe: Mitarbeitende aus Bibliotheken und Volkshochschulen in Schleswig-Holsteinmax.  12 TN
URL:https://mobil-digital.de/termine/location-based-storytelling-2-eutin/
LOCATION:Kreisbibliothek Eutin\, Schlossplatz 2\, Eutin\, 23701
CATEGORIES:Narrative Welten
ATTACH;FMTTYPE=image/jpeg:https://mobil-digital.de/wp-content/uploads/2025/03/Grafik-NarrativeWelten-BzVersion-mit-Nennung.jpg
END:VEVENT
BEGIN:VEVENT
DTSTART;TZID=Europe/Berlin:20250315T080000
DTEND;TZID=Europe/Berlin:20250315T170000
DTSTAMP:20260425T204747
CREATED:20250312T135025Z
LAST-MODIFIED:20250312T135026Z
UID:1146-1742025600-1742058000@mobil-digital.de
SUMMARY:Flintbek
DESCRIPTION:Wir sind bei der FLC-Party in der Flintbeker Gemeindebücherei dabei.
URL:https://mobil-digital.de/termine/flintbek/
CATEGORIES:Workshop
ATTACH;FMTTYPE=image/webp:https://mobil-digital.de/wp-content/uploads/2025/02/einsatzorte-modi-bis-2024.webp
END:VEVENT
BEGIN:VEVENT
DTSTART;TZID=Europe/Berlin:20250320T080000
DTEND;TZID=Europe/Berlin:20250320T170000
DTSTAMP:20260425T204747
CREATED:20250312T123246Z
LAST-MODIFIED:20250318T090205Z
UID:1113-1742457600-1742490000@mobil-digital.de
SUMMARY:Satrup
DESCRIPTION:In-House-Fortbildung in der Bücherei Satrup. Umliegende Bibliotheken und Volkshochschulen sind eingeladen\, sich zu beteiligen.
URL:https://mobil-digital.de/termine/satrup/
CATEGORIES:Fortbildung
ATTACH;FMTTYPE=image/gif:https://mobil-digital.de/wp-content/uploads/2025/02/einsatzorte-modi-bis-2024.gif
END:VEVENT
BEGIN:VEVENT
DTSTART;TZID=Europe/Berlin:20250322T100000
DTEND;TZID=Europe/Berlin:20250322T160000
DTSTAMP:20260425T204747
CREATED:20250312T132138Z
LAST-MODIFIED:20250320T135349Z
UID:1124-1742637600-1742659200@mobil-digital.de
SUMMARY:Burg in Dithmarschen - Jobbörse 50 Plus
DESCRIPTION:mobil.digital bringt mit der Volkshochschule Burg den 3D-Drucker zum Ausprobieren zur Jobbörse 50 Plus in Burg (Dithmarschen).
URL:https://mobil-digital.de/termine/burg-in-dithmarschen-jobboerse-50-plus/
LOCATION:Burg (Dithmarschen)\, Burg (Dithmarschen)\, 25712\, Germany
ATTACH;FMTTYPE=image/webp:https://mobil-digital.de/wp-content/uploads/2025/02/einsatzorte-modi-bis-2024.webp
END:VEVENT
BEGIN:VEVENT
DTSTART;TZID=Europe/Berlin:20250325T090000
DTEND;TZID=Europe/Berlin:20250327T170000
DTSTAMP:20260425T204747
CREATED:20250214T113649Z
LAST-MODIFIED:20250320T135625Z
UID:285-1742893200-1743094800@mobil-digital.de
SUMMARY:Praxismesse
DESCRIPTION:Die zweite mobil.digital-Praxismesse von mobil.digital findet wieder in Rendsburg statt. Das aktualisierte Programm von mobil.digital zum Anfassen und Ausprobieren. Der mobil.digital-Bus kann mit allen neuen und etablierten Mitmach-Stationen erkundet werden. Wir stellen unsere Fortbildungsangebote und unsere neuen Ausleihboxen vor. Sie können jederzeit vorbeikommen zum offenen Angebot und alle Stationen praktisch erproben. Die Teilnahme ist selbstverständlich kostenfrei.
URL:https://mobil-digital.de/termine/praxismesse/
LOCATION:Halle der Landwirtschaftskammer\, Grüner Kamp 19-21\, Rendsburg\, 24768
ATTACH;FMTTYPE=image/jpeg:https://mobil-digital.de/wp-content/uploads/2025/02/banner-save-the-date-Praxismesse-2025-03.jpg
ORGANIZER;CN="mobil.digital":MAILTO:info@mobil-digital.de
END:VEVENT
END:VCALENDAR