BEGIN:VCALENDAR
VERSION:2.0
PRODID:-//Mobil Digital - ECPv6.15.17.1//NONSGML v1.0//EN
CALSCALE:GREGORIAN
METHOD:PUBLISH
X-WR-CALNAME:Mobil Digital
X-ORIGINAL-URL:https://mobil-digital.de
X-WR-CALDESC:Veranstaltungen für Mobil Digital
REFRESH-INTERVAL;VALUE=DURATION:PT1H
X-Robots-Tag:noindex
X-PUBLISHED-TTL:PT1H
BEGIN:VTIMEZONE
TZID:Europe/Berlin
BEGIN:DAYLIGHT
TZOFFSETFROM:+0100
TZOFFSETTO:+0200
TZNAME:CEST
DTSTART:20240331T010000
END:DAYLIGHT
BEGIN:STANDARD
TZOFFSETFROM:+0200
TZOFFSETTO:+0100
TZNAME:CET
DTSTART:20241027T010000
END:STANDARD
BEGIN:DAYLIGHT
TZOFFSETFROM:+0100
TZOFFSETTO:+0200
TZNAME:CEST
DTSTART:20250330T010000
END:DAYLIGHT
BEGIN:STANDARD
TZOFFSETFROM:+0200
TZOFFSETTO:+0100
TZNAME:CET
DTSTART:20251026T010000
END:STANDARD
BEGIN:DAYLIGHT
TZOFFSETFROM:+0100
TZOFFSETTO:+0200
TZNAME:CEST
DTSTART:20260329T010000
END:DAYLIGHT
BEGIN:STANDARD
TZOFFSETFROM:+0200
TZOFFSETTO:+0100
TZNAME:CET
DTSTART:20261025T010000
END:STANDARD
END:VTIMEZONE
BEGIN:VEVENT
DTSTART;TZID=Europe/Berlin:20250506T093000
DTEND;TZID=Europe/Berlin:20250506T163000
DTSTAMP:20260425T171359
CREATED:20250312T073756Z
LAST-MODIFIED:20250409T095053Z
UID:1052-1746523800-1746549000@mobil-digital.de
SUMMARY:Fortbildung: Narrative Welten: Digital und analog Comics erstellen
DESCRIPTION:Teil der Veranstaltungsreihe „Narrative Welten: Storytelling analog und digital“ \n\n\n\nMit Bildern Geschichten erzählen – darin liegt die Essenz von Comics\, Graphic Novels\, Mangas und Fotostories. Es gibt kaum einen Klassiker der Weltliteratur\, der nicht auch als Comic adaptiert wurde. Die Ästhetik und Machart dieser visuellen Erzählformen sind so vielfältig wie die Geschichten selbst\, die sie transportieren. Dabei verschwimmen oft die Grenzen zwischen handgezeichneten und digital erstellten Werken\, die dennoch den unverwechselbaren Charme des Gezeichneten bewahren. Comic-Künstler*innen bewegen sich mühelos zwischen beiden Welten und nutzen die Vorteile beider Techniken. \n\n\n\nFür die digitale Umsetzung stehen uns Tools wie Procreate und Comic Life auf dem iPad zur Verfügung\, ergänzt durch präzise Stifte für detailliertes Arbeiten. Zudem eröffnen spezielle Filter Möglichkeiten\, um aus Fotos und analogen Zeichnungen Bilder im Stil eines Comics zu kreieren. \n\n\n\nDieser Workshop richtet sich besonders an Multiplikator*innen\, die mit Jugendlichen und Erwachsenen arbeiten möchten\, die ihre Leidenschaft für Comics nicht nur als Leser*innen ausleben\, sondern auch selbst als Autor*innen und Zeichner*innen kreativ werden möchten. \n\n\n\nReferentin: Katharina Krüger\, Karl DamkeZielgruppe: Mitarbeitende aus Bibliotheken und Volkshochschulen in Schleswig-Holsteinmax.  15 TN
URL:https://mobil-digital.de/termine/digital-und-analog-comics-erstellen/
LOCATION:Stadtbücherei Rendsburg\, Arsenalstraße 2-10\, Rendsburg\, 24768
CATEGORIES:Narrative Welten
ATTACH;FMTTYPE=image/jpeg:https://mobil-digital.de/wp-content/uploads/2025/03/Grafik-NarrativeWelten-BzVersion-mit-Nennung.jpg
END:VEVENT
BEGIN:VEVENT
DTSTART;TZID=Europe/Berlin:20250514T120000
DTEND;TZID=Europe/Berlin:20250514T170000
DTSTAMP:20260425T171400
CREATED:20250312T132536Z
LAST-MODIFIED:20250422T084658Z
UID:1130-1747224000-1747242000@mobil-digital.de
SUMMARY:Bad Schwartau
DESCRIPTION:Wir reisen mit Mitmachangeboten für Jung und Alt zum 60-jährigen Jubiläum der Stadtbücherei nach Bad Schwartau. Besuchen Sie uns vor und in der Bücherei.
URL:https://mobil-digital.de/termine/bad-schwartau/
CATEGORIES:Öffentliche Veranstaltung
ATTACH;FMTTYPE=image/webp:https://mobil-digital.de/wp-content/uploads/2025/02/einsatzorte-modi-bis-2024.webp
END:VEVENT
BEGIN:VEVENT
DTSTART;TZID=Europe/Berlin:20250515T000000
DTEND;TZID=Europe/Berlin:20250515T235959
DTSTAMP:20260425T171400
CREATED:20250422T085132Z
LAST-MODIFIED:20250505T133805Z
UID:1555-1747267200-1747353599@mobil-digital.de
SUMMARY:Tarp
DESCRIPTION:mobil.digital reist zur Eröffnung von digitalWERK — der digitalen Begegnungsstätte in Tarp.
URL:https://mobil-digital.de/termine/tarp/
CATEGORIES:Öffentliche Veranstaltung
ATTACH;FMTTYPE=image/webp:https://mobil-digital.de/wp-content/uploads/2025/02/einsatzorte-modi-bis-2024.webp
END:VEVENT
BEGIN:VEVENT
DTSTART;TZID=Europe/Berlin:20250521T130000
DTEND;TZID=Europe/Berlin:20250521T133000
DTSTAMP:20260425T171400
CREATED:20250320T200043Z
LAST-MODIFIED:20250403T100825Z
UID:1450-1747832400-1747834200@mobil-digital.de
SUMMARY:Webinar: Lernangebot "Digitale Welt" im vhs-Lernportal
DESCRIPTION:Externe Veranstaltung: Digitale Entwicklung stellt für breite Bevölkerungsschichten eine große Herausforderung dar; dies gilt insbesondere für ältere Menschen und Personen mit geringer formaler Bildung. Das Lernangebot „“Digitale Welt““ im vhs-Lernportal bietet passgenaues Lernmaterial\, um diese Zielgruppen zur digitalen Teilhabe zu befähigen. Hier geht es zum Lernangebot im Lernportal – die Nutzung (auch in Bildungsangeboten) ist für alle kostenfrei möglich. \n\n\n\nVon der Bedienung von Smartphone und Maus\, über Digitalisierungsthemen wie Künstliche Intelligenz\, Fake News\, bis hin zur kritischen Reflexion der Mediennutzung orientieren sich die Lerninhalte an den Bedürfnissen und am Lebensalltag der Nutzer*innen.  \n\n\n\nIn der Schulung lernen Sie die wichtigsten Funktionen und den Aufbau des Lernangebotes kennen und erhalten Tipps für den Einsatz des Kurses in der Praxis.
URL:https://mobil-digital.de/termine/webinar-lernangebot-digitale-welt-im-vhs-lernportal-2/
CATEGORIES:Fortbildung
ATTACH;FMTTYPE=image/png:https://mobil-digital.de/wp-content/uploads/2025/03/Zeichenflaeche-3.png
END:VEVENT
BEGIN:VEVENT
DTSTART;TZID=Europe/Berlin:20250521T170000
DTEND;TZID=Europe/Berlin:20250521T180000
DTSTAMP:20260425T171400
CREATED:20250320T153141Z
LAST-MODIFIED:20250322T193340Z
UID:1440-1747846800-1747850400@mobil-digital.de
SUMMARY:Webinar: Vorstellung Ausleihbox "Digitale Alltagshelfer"
DESCRIPTION:Angebote für Senior:innen sind ein wichtiger Bestandteil der Arbeit von Volkshochschulen und Bibliotheken. Gerade Senior:innen können von der Digitalisierung profitieren\, denn digitale Alltagshelfer können körperliche und gesundheitliche Defizite und Einschränkungen ausgleichen. Je älter man wird\, desto höher ist aber auch die Hemmschwelle\, sich auf neue Geräte\, Apps und digitale Dienstleistungen einzulassen. Hier sind Bibliotheken und Volkshochschulen als niedrigschwelliger Anlaufpunkt für digitale Teilhabe gefragt! Wir haben eine Ausleihbox eingerichtet\, die Sie für Ihre Kurse in der Volkshochschule\, zum Kennenlernen für Ihre Kursleitungen oder als Thementisch in der Bibliothek und für Workshops ausleihen können. Welche Geräte\, Literatur und Ideen in der Box stecken\, stellen Lisa Heyse und Katharina Krüger von mobil.digital vor. Gerne beantworten sie alle Ihre inhaltlichen und organisatorischen Fragen in diesem kostenfreien Webinar. \n\n\n\nHinweis zu unseren einstündigen Webinaren: Mit unseren kurzen Webinaren möchten wir die Tür öffnen zu neuen Themen und Angeboten. Wir möchten so u.a. Kursleitungen die Möglichkeit bieten\, in ein Thema reinzuschnuppern und zu überlegen\, ob sie es in ihre bestehenden Kurse integrieren oder neue Kurse dazu anbieten möchten. Es besteht die Möglichkeit\, anschließend eine intensive kostenfreie Fortbildung zu sich in die eigene Einrichtung zu holen. Gerne möchten wir in den Webinaren auch eine Plattform bieten zum Erfahrungsaustausch und zur Vernetzung für Kursleitungen und Bibliotheksmitarbeitende mit Vorerfahrung in diesem Themenbereich. Wir richten uns diesbezüglich gerne nach den Wünschen der Teilnehmenden. \n\n\n\nAnmeldung bitte per E-Mail an info@mobil-digital.de.
URL:https://mobil-digital.de/termine/webinar-vorstellung-ausleihbox-digitale-alltagshelfer/
CATEGORIES:Fortbildung
ATTACH;FMTTYPE=image/png:https://mobil-digital.de/wp-content/uploads/2025/03/Zeichenflaeche-3.png
ORGANIZER;CN="mobil.digital":MAILTO:info@mobil-digital.de
END:VEVENT
BEGIN:VEVENT
DTSTART;TZID=Europe/Berlin:20250525T000000
DTEND;TZID=Europe/Berlin:20250525T235959
DTSTAMP:20260425T171400
CREATED:20250520T120611Z
LAST-MODIFIED:20250520T120614Z
UID:1577-1748131200-1748217599@mobil-digital.de
SUMMARY:Elmshorn Kinderkulturfest
DESCRIPTION:Am 25.05.2025 ist mobil.digital zu Gast in Elmshorn! Die Bücherei Elmshorn lädt herzlich ein zu einer Veranstaltung mit Kinderkulturfest – ein buntes Programm für große und kleine Besucherinnen und Besucher erwartet euch.Mit dabei: Programmieren für die Kleinsten (ab 4 Jahren) mit BeeBots und Bluebots / Druckgrafik trifft Makerspace: Stempeln und Drucken mit 3D-Drucker und Lasercutter \n\n\n\nKommt vorbei und entdeckt digitale Kreativität zum Anfassen!
URL:https://mobil-digital.de/termine/elmshorn-kinderkulturfest/
CATEGORIES:Öffentliche Veranstaltung
ATTACH;FMTTYPE=image/webp:https://mobil-digital.de/wp-content/uploads/2025/02/einsatzorte-modi-bis-2024.webp
END:VEVENT
END:VCALENDAR