BEGIN:VCALENDAR
VERSION:2.0
PRODID:-//Mobil Digital - ECPv6.15.17.1//NONSGML v1.0//EN
CALSCALE:GREGORIAN
METHOD:PUBLISH
X-ORIGINAL-URL:https://mobil-digital.de
X-WR-CALDESC:Veranstaltungen für Mobil Digital
REFRESH-INTERVAL;VALUE=DURATION:PT1H
X-Robots-Tag:noindex
X-PUBLISHED-TTL:PT1H
BEGIN:VTIMEZONE
TZID:Europe/Berlin
BEGIN:DAYLIGHT
TZOFFSETFROM:+0100
TZOFFSETTO:+0200
TZNAME:CEST
DTSTART:20240331T010000
END:DAYLIGHT
BEGIN:STANDARD
TZOFFSETFROM:+0200
TZOFFSETTO:+0100
TZNAME:CET
DTSTART:20241027T010000
END:STANDARD
BEGIN:DAYLIGHT
TZOFFSETFROM:+0100
TZOFFSETTO:+0200
TZNAME:CEST
DTSTART:20250330T010000
END:DAYLIGHT
BEGIN:STANDARD
TZOFFSETFROM:+0200
TZOFFSETTO:+0100
TZNAME:CET
DTSTART:20251026T010000
END:STANDARD
BEGIN:DAYLIGHT
TZOFFSETFROM:+0100
TZOFFSETTO:+0200
TZNAME:CEST
DTSTART:20260329T010000
END:DAYLIGHT
BEGIN:STANDARD
TZOFFSETFROM:+0200
TZOFFSETTO:+0100
TZNAME:CET
DTSTART:20261025T010000
END:STANDARD
END:VTIMEZONE
BEGIN:VEVENT
DTSTART;TZID=Europe/Berlin:20250604T170000
DTEND;TZID=Europe/Berlin:20250604T180000
DTSTAMP:20260425T151510
CREATED:20250320T194758Z
LAST-MODIFIED:20250322T193400Z
UID:1442-1749056400-1749060000@mobil-digital.de
SUMMARY:Webinar: Vorstellung Ausleihbox "3D-Druck mit A1mini"
DESCRIPTION:Wer unsere neuen 3D-Drucker „A1 mini“ von Bambu kennenlernen möchte und sehen möchte\, was in der Ausleihbox noch alles drin ist\, die/der ist bei diesem Webinar genau richtig! Gerne beantworten wir alle Fragen zu möglichen Formaten\, den Nutzungsbedingungen der kostenfreien Ausleihe und dem Transport in Ihre Einrichtung. \n\n\n\nHinweis zu unseren einstündigen Webinaren: Mit unseren kurzen Webinaren möchten wir die Tür öffnen zu neuen Themen und Angeboten. Wir möchten so u.a. Kursleitungen die Möglichkeit bieten\, in ein Thema reinzuschnuppern und zu überlegen\, ob sie es in ihre bestehenden Kurse integrieren oder neue Kurse dazu anbieten möchten. Es besteht die Möglichkeit\, anschließend eine intensive kostenfreie Fortbildung zu sich in die eigene Einrichtung zu holen. Gerne möchten wir in den Webinaren auch eine Plattform bieten zum Erfahrungsaustausch und zur Vernetzung für Kursleitungen und Bibliotheksmitarbeitende mit Vorerfahrung in diesem Themenbereich. Wir richten uns diesbezüglich gerne nach den Wünschen der Teilnehmenden. \n\n\n\nAnmeldung bitte per E-Mail an info@mobil-digital.de.
URL:https://mobil-digital.de/termine/webinar-vorstellung-ausleihbox-3d-druck-mit-a1mini/
CATEGORIES:Fortbildung
ATTACH;FMTTYPE=image/png:https://mobil-digital.de/wp-content/uploads/2025/03/Zeichenflaeche-3.png
ORGANIZER;CN="mobil.digital":MAILTO:info@mobil-digital.de
END:VEVENT
BEGIN:VEVENT
DTSTART;TZID=Europe/Berlin:20250605T170000
DTEND;TZID=Europe/Berlin:20250605T180000
DTSTAMP:20260425T151510
CREATED:20250320T194946Z
LAST-MODIFIED:20250322T192823Z
UID:1444-1749142800-1749146400@mobil-digital.de
SUMMARY:Webinar: Vorstellung Ausleihbox "3D-Druck + Buchbinden"
DESCRIPTION:Unsere Ausleihbox „Buchbinden“ enthält alle Werkzeuge für einen Buchbinde-Workshop in Ihrer Einrichtung. Wer gerne genauer reinschauen möchte und insbesondere unsere mit dem 3D-Drucker hergestellten Werkzeuge kennenlernen möchte\, die/der darf sich gern zu diesem kostenfreien Webinar anmelden. Wir liefern die Buchbindebox immer zusammen mit einem kleinen3D-Drucker\, Filamenten sowie druckbaren Dateien\, um vor Ort weitere Werkzeuge zu drucken und die Verbindung zwischen analogen und digitalen Techniken herzustellen. \n\n\n\nHinweis zu unseren einstündigen Webinaren: Mit unseren kurzen Webinaren möchten wir die Tür öffnen zu neuen Themen und Angeboten. Wir möchten so u.a. Kursleitungen die Möglichkeit bieten\, in ein Thema reinzuschnuppern und zu überlegen\, ob sie es in ihre bestehenden Kurse integrieren oder neue Kurse dazu anbieten möchten. Es besteht die Möglichkeit\, anschließend eine intensive kostenfreie Fortbildung zu sich in die eigene Einrichtung zu holen. Gerne möchten wir in den Webinaren auch eine Plattform bieten zum Erfahrungsaustausch und zur Vernetzung für Kursleitungen und Bibliotheksmitarbeitende mit Vorerfahrung in diesem Themenbereich. Wir richten uns diesbezüglich gerne nach den Wünschen der Teilnehmenden. \n\n\n\nAnmeldung bitte per E-Mail an info@mobil-digital.de.
URL:https://mobil-digital.de/termine/webinar-vorstellung-ausleihbox-3d-druck-buchbinden/
CATEGORIES:Fortbildung
ATTACH;FMTTYPE=image/png:https://mobil-digital.de/wp-content/uploads/2025/03/Zeichenflaeche-3.png
ORGANIZER;CN="mobil.digital":MAILTO:info@mobil-digital.de
END:VEVENT
BEGIN:VEVENT
DTSTART;TZID=Europe/Berlin:20250607T000000
DTEND;TZID=Europe/Berlin:20250607T235959
DTSTAMP:20260425T151510
CREATED:20250520T120805Z
LAST-MODIFIED:20250520T120807Z
UID:1579-1749254400-1749340799@mobil-digital.de
SUMMARY:Satrup Kindertag
DESCRIPTION:Die digitale Erlebnisreise macht am 07.06.2025 Halt in Satrup! Die vhs Mittelangeln lädt herzlich ein zu einer Veranstaltung mit Kindertag auf dem Sportplatz – ein buntes Programm für große und kleine Besucherinnen und Besucher erwartet euch.Mit dabei: Programmieren für die Kleinsten (ab 4 Jahren) mit BeeBots und Bluebots / Eigene Comics machen mit GreenScreen und iPad \n\n\n\nKommt vorbei und entdeckt digitale Kreativität zum Anfassen!
URL:https://mobil-digital.de/termine/satrup-kindertag/
CATEGORIES:Öffentliche Veranstaltung
ATTACH;FMTTYPE=image/webp:https://mobil-digital.de/wp-content/uploads/2025/02/einsatzorte-modi-bis-2024.webp
END:VEVENT
BEGIN:VEVENT
DTSTART;TZID=Europe/Berlin:20250610T093000
DTEND;TZID=Europe/Berlin:20250610T163000
DTSTAMP:20260425T151510
CREATED:20250312T074031Z
LAST-MODIFIED:20250409T094931Z
UID:1054-1749547800-1749573000@mobil-digital.de
SUMMARY:Fortbildung: Narrative Welten: Abschlussveranstaltung (Rendsburg)
DESCRIPTION:10.06.2025 & 11.06.2025 – 09:30-16:30 Uhr \n\n\n\nTeil der Veranstaltungsreihe „Narrative Welten: Storytelling analog und digital“ \n\n\n\nSetzen Sie die in der Fortbildungsreihe „Narrative Welten: Storytelling analog und digital“ erlernten Methoden in die Praxis um! In dieser zweitägigen Abschlussveranstaltung haben Sie die Möglichkeit\, kreative Ideen und Impulse aus den vorangegangenen Workshops aufzugreifen und weiter auszuarbeiten. \n\n\n\nOb interaktive Fiktion\, Audio-/Videoproduktion\, KI-Tools\, Making oder Comics – hier können Sie Ihre Ideen in die Tat umsetzen. Unter der fachkundigen Betreuung unserer Referent*innen entwickeln Sie Ihre Projekte\, erhalten Feedback und feilen an Ihren Storytelling-Ansätzen. Nutzen Sie diese Gelegenheit\, das Gelernte mit einer Vielzahl von Medien und Techniken praktisch anzuwenden. Dieser Abschlussworkshop bietet einen Rahmen und Unterstützung\, um Ihre kreativen Projekte zu planen und durchzuführen. \n\n\n\nReferent*innen: Team mobil.digital & Stabstelle Medienpädagogik Bibliotheken SHZielgruppe: Mitarbeitende aus Bibliotheken und Volkshochschulen in Schleswig-Holsteinmax.  20 TN
URL:https://mobil-digital.de/termine/narrative-welten-abschlussveranstaltung-bzsh-rendsburg/
LOCATION:Bibliotheken SH\, Wrangelstraße 1\, Rendsburg\, 24768
CATEGORIES:Narrative Welten
ATTACH;FMTTYPE=image/jpeg:https://mobil-digital.de/wp-content/uploads/2025/03/Grafik-NarrativeWelten-BzVersion-mit-Nennung.jpg
ORGANIZER;CN="mobil.digital":MAILTO:info@mobil-digital.de
END:VEVENT
BEGIN:VEVENT
DTSTART;TZID=Europe/Berlin:20250614T000000
DTEND;TZID=Europe/Berlin:20250614T235959
DTSTAMP:20260425T151510
CREATED:20250312T133328Z
LAST-MODIFIED:20250320T145704Z
UID:1134-1749859200-1749945599@mobil-digital.de
SUMMARY:Altenholz-Klausdorf
DESCRIPTION:mobil.digital kommt zum Klausdorfer/Altenholzer Festtag\, gemeinsam mit der Gemeindebücherei Altenholz und der Förde VHS
URL:https://mobil-digital.de/termine/altenholz-klausdorf/
CATEGORIES:Öffentliche Veranstaltung
ATTACH;FMTTYPE=image/webp:https://mobil-digital.de/wp-content/uploads/2025/02/einsatzorte-modi-bis-2024.webp
END:VEVENT
BEGIN:VEVENT
DTSTART;TZID=Europe/Berlin:20250617T000000
DTEND;TZID=Europe/Berlin:20250617T235959
DTSTAMP:20260425T151510
CREATED:20250520T120946Z
LAST-MODIFIED:20250520T121016Z
UID:1581-1750118400-1750204799@mobil-digital.de
SUMMARY:Brunsbüttel
DESCRIPTION:mobil.digital ist am 17.06.2025 in Brunsbüttel mit einem spannenden Kurs-Angebot! Die vhs lädt herzlich ein zu einer Veranstaltung mit dem Kurs „Geschichten erzählen analog und digital“ im vhs-Bauwagen. \n\n\n\nSeid gerne mit dabei (Anmeldung über die vhs-Website) und entdeckt digitale Kreativität zum Anfassen!
URL:https://mobil-digital.de/termine/brunsbuettel-3/
CATEGORIES:Workshop
ATTACH;FMTTYPE=image/webp:https://mobil-digital.de/wp-content/uploads/2025/02/einsatzorte-modi-bis-2024.webp
END:VEVENT
BEGIN:VEVENT
DTSTART;TZID=Europe/Berlin:20250618T170000
DTEND;TZID=Europe/Berlin:20250618T180000
DTSTAMP:20260425T151510
CREATED:20250320T195106Z
LAST-MODIFIED:20250322T193310Z
UID:1446-1750266000-1750269600@mobil-digital.de
SUMMARY:Webinar: Vorstellung Ausleihbox "Open Press Project"
DESCRIPTION:Unsere Ausleihbox „Open Press Project“ enthält alle Werkzeuge für einen Druck- oder Stempel-Workshop in Ihrer Einrichtung. Wer gerne genauer reinschauen möchte und insbesondere unsere mit dem 3D-Drucker hergestellten Druckerpressen und Stempel-Sets kennenlernen möchte\, die/der darf sich gern zu diesem kostenfreien Webinar anmelden. Wir liefern die Ausleihboxen immer zusammen mit einem kleinen 3D-Drucker\, Filamenten sowie druckbaren Dateien\, um vor Ort weitere Werkzeuge zu drucken und die Verbindung zwischen analogen und digitalen Techniken herzustellen. \n\n\n\nHinweis zu unseren einstündigen Webinaren: Mit unseren kurzen Webinaren möchten wir die Tür öffnen zu neuen Themen und Angeboten. Wir möchten so u.a. Kursleitungen die Möglichkeit bieten\, in ein Thema reinzuschnuppern und zu überlegen\, ob sie es in ihre bestehenden Kurse integrieren oder neue Kurse dazu anbieten möchten. Es besteht die Möglichkeit\, anschließend eine intensive kostenfreie Fortbildung zu sich in die eigene Einrichtung zu holen. Gerne möchten wir in den Webinaren auch eine Plattform bieten zum Erfahrungsaustausch und zur Vernetzung für Kursleitungen und Bibliotheksmitarbeitende mit Vorerfahrung in diesem Themenbereich. Wir richten uns diesbezüglich gerne nach den Wünschen der Teilnehmenden. \n\n\n\nAnmeldung bitte per E-Mail an info@mobil-digital.de.
URL:https://mobil-digital.de/termine/webinar-3d-druck-druckerpresse-stempel/
CATEGORIES:Fortbildung
ATTACH;FMTTYPE=image/png:https://mobil-digital.de/wp-content/uploads/2025/03/Zeichenflaeche-3.png
ORGANIZER;CN="mobil.digital":MAILTO:info@mobil-digital.de
END:VEVENT
BEGIN:VEVENT
DTSTART;TZID=Europe/Berlin:20250621T000000
DTEND;TZID=Europe/Berlin:20250621T235959
DTSTAMP:20260425T151510
CREATED:20250520T121143Z
LAST-MODIFIED:20250520T121145Z
UID:1584-1750464000-1750550399@mobil-digital.de
SUMMARY:Büchen
DESCRIPTION:mobil.digital besucht am 21.06.2025 Büchen mit vielen kreativen Mitmachaktionen! Die Bücherei Büchen lädt herzlich ein zum Fest auf dem Skateplatz – ein buntes Programm für große und kleine Besucherinnen und Besucher erwartet euch. \n\n\n\nMit dabei: 3D-Druck kreativ / Eigene Comics machen mit GreenScreen und iPad \n\n\n\nKommt vorbei und entdeckt digitale Kreativität zum Anfassen!
URL:https://mobil-digital.de/termine/buechen/
CATEGORIES:Öffentliche Veranstaltung
ATTACH;FMTTYPE=image/webp:https://mobil-digital.de/wp-content/uploads/2025/02/einsatzorte-modi-bis-2024.webp
END:VEVENT
BEGIN:VEVENT
DTSTART;TZID=Europe/Berlin:20250625T000000
DTEND;TZID=Europe/Berlin:20250626T235959
DTSTAMP:20260425T151510
CREATED:20250312T133013Z
LAST-MODIFIED:20250422T090918Z
UID:1132-1750809600-1750982399@mobil-digital.de
SUMMARY:Bibliothekskongress Bremen
DESCRIPTION:mobil.digital reist zur BiblioCon nach Bremen!  \n\n\n\nAm 25.6.2025 öffnet der Bus seine Türen in guter Gesellschaft weiterer Fahrbüchereien vor den Messehallen.  \n\n\n\nAm 26.6.2025 gestalten wir von 9:00-10:30 Uhr zudem ein Hands-on Lab zum Thema „Projekte rund ums Buch mit 3D-Drucker und Lascercutter“.
URL:https://mobil-digital.de/termine/bibliothekskongress-bremen/
ATTACH;FMTTYPE=image/jpeg:https://mobil-digital.de/wp-content/uploads/2025/03/220511_Logo_mobildigital.jpg
END:VEVENT
BEGIN:VEVENT
DTSTART;TZID=Europe/Berlin:20250627T000000
DTEND;TZID=Europe/Berlin:20250627T235959
DTSTAMP:20260425T151511
CREATED:20250312T133447Z
LAST-MODIFIED:20250521T085801Z
UID:1136-1750982400-1751068799@mobil-digital.de
SUMMARY:Digitaltag in Ahrensburg
DESCRIPTION:mobil.digital besucht am 27.06.2025 Ahrensburg mit vielen kreativen Mitmachaktionen! Die Bücherei lädt herzlich ein zu einer Veranstaltung zum bundesweiten Digitaltag – ein buntes Programm für große und kleine Besucherinnen und Besucher erwartet euch. \n\n\n\nMit dabei: Vormittag Natur und Garten im mobil.digital-Bus vor der Bücherei\, nachmittags eintauchen in Virtuelle Realitäten – ihr könnt u.a. unsere VR-Brillen ausprobieren!  \n\n\n\nKommt vorbei und entdeckt digitale Kreativität zum Anfassen!
URL:https://mobil-digital.de/termine/digitaltag-in-ahrensburg/
CATEGORIES:Öffentliche Veranstaltung
ATTACH;FMTTYPE=image/webp:https://mobil-digital.de/wp-content/uploads/2025/02/einsatzorte-modi-bis-2024.webp
END:VEVENT
BEGIN:VEVENT
DTSTART;TZID=Europe/Berlin:20250628T000000
DTEND;TZID=Europe/Berlin:20250628T235959
DTSTAMP:20260425T151511
CREATED:20250422T085610Z
LAST-MODIFIED:20250521T085844Z
UID:1558-1751068800-1751155199@mobil-digital.de
SUMMARY:Tangstedt
DESCRIPTION:mobil.digital besucht am 28.06.2025 Tangstedt mit kreativen Mitmachaktionen! Die vhs lädt herzlich ein zu einer Veranstaltung zum Jubiläum „55 Jahre Großgemeinde Tangstedt“ – ein buntes Programm für große und kleine Besucherinnen und Besucher erwartet euch. \n\n\n\nMit dabei: Programmieren für Kids mit dem Intellino-Zug (ab 7 Jahren) plus BeeBots und Bluebots / Druckgrafik trifft Makerspace: Stempeln und Drucken mit 3D-Drucker und Lasercutter \n\n\n\nKommt vorbei und entdeckt digitale Kreativität zum Anfassen!
URL:https://mobil-digital.de/termine/tangstedt/
CATEGORIES:Öffentliche Veranstaltung
ATTACH;FMTTYPE=image/webp:https://mobil-digital.de/wp-content/uploads/2025/02/einsatzorte-modi-bis-2024.webp
END:VEVENT
END:VCALENDAR