BEGIN:VCALENDAR
VERSION:2.0
PRODID:-//Mobil Digital - ECPv6.15.17.1//NONSGML v1.0//EN
CALSCALE:GREGORIAN
METHOD:PUBLISH
X-WR-CALNAME:Mobil Digital
X-ORIGINAL-URL:https://mobil-digital.de
X-WR-CALDESC:Veranstaltungen für Mobil Digital
REFRESH-INTERVAL;VALUE=DURATION:PT1H
X-Robots-Tag:noindex
X-PUBLISHED-TTL:PT1H
BEGIN:VTIMEZONE
TZID:Europe/Berlin
BEGIN:DAYLIGHT
TZOFFSETFROM:+0100
TZOFFSETTO:+0200
TZNAME:CEST
DTSTART:20240331T010000
END:DAYLIGHT
BEGIN:STANDARD
TZOFFSETFROM:+0200
TZOFFSETTO:+0100
TZNAME:CET
DTSTART:20241027T010000
END:STANDARD
BEGIN:DAYLIGHT
TZOFFSETFROM:+0100
TZOFFSETTO:+0200
TZNAME:CEST
DTSTART:20250330T010000
END:DAYLIGHT
BEGIN:STANDARD
TZOFFSETFROM:+0200
TZOFFSETTO:+0100
TZNAME:CET
DTSTART:20251026T010000
END:STANDARD
BEGIN:DAYLIGHT
TZOFFSETFROM:+0100
TZOFFSETTO:+0200
TZNAME:CEST
DTSTART:20260329T010000
END:DAYLIGHT
BEGIN:STANDARD
TZOFFSETFROM:+0200
TZOFFSETTO:+0100
TZNAME:CET
DTSTART:20261025T010000
END:STANDARD
END:VTIMEZONE
BEGIN:VEVENT
DTSTART;TZID=Europe/Berlin:20250703T170000
DTEND;TZID=Europe/Berlin:20250703T180000
DTSTAMP:20260425T130828
CREATED:20250320T152835Z
LAST-MODIFIED:20250521T155154Z
UID:1437-1751562000-1751565600@mobil-digital.de
SUMMARY:Webinar: Best Practice "vhs-Kurs KI"
DESCRIPTION:Interview mit Jörgen Johannsen und Christian Vogel. \n\n\n\nKI-Kurse erfreuen sich großer Beliebtheit an Volkshochschulen. Wir dürfen in diesem einstündigen Webinar von den Erfahrungen von Jörgen Johannsen\, vhs Rendsburg\, und Christian Vogel\, Förde-vhs\, profitieren. Melden Sie sich zum kostenfreien Webinar an\, stellen Sie Ihre Fragen und teilen Sie gerne auch Ihre Erkenntnisse aus Ihren KI-Kursen mit uns! \n\n\n\nHinweis zu unseren einstündigen Webinaren: Mit unseren kurzen Webinaren möchten wir die Tür öffnen zu neuen Themen und Angeboten. Wir möchten so u.a. Kursleitungen die Möglichkeit bieten\, in ein Thema reinzuschnuppern und zu überlegen\, ob sie es in ihre bestehenden Kurse integrieren oder neue Kurse dazu anbieten möchten. Es besteht die Möglichkeit\, anschließend eine intensive kostenfreie Fortbildung zu sich in die eigene Einrichtung zu holen. Gerne möchten wir in den Webinaren auch eine Plattform bieten zum Erfahrungsaustausch und zur Vernetzung für Kursleitungen und Bibliotheksmitarbeitende mit Vorerfahrung in diesem Themenbereich. Wir richten uns diesbezüglich gerne nach den Wünschen der Teilnehmenden. \n\n\n\nAnmeldung bitte per E-Mail an info@mobil-digital.de..
URL:https://mobil-digital.de/termine/webinar-best-practice-vhs-kurs-ki/
CATEGORIES:Fortbildung
ATTACH;FMTTYPE=image/png:https://mobil-digital.de/wp-content/uploads/2025/03/Zeichenflaeche-3.png
ORGANIZER;CN="mobil.digital":MAILTO:info@mobil-digital.de
END:VEVENT
BEGIN:VEVENT
DTSTART;TZID=Europe/Berlin:20250712T000000
DTEND;TZID=Europe/Berlin:20250712T235959
DTSTAMP:20260425T130828
CREATED:20250312T134705Z
LAST-MODIFIED:20250708T083724Z
UID:1142-1752278400-1752364799@mobil-digital.de
SUMMARY:Schwentinental
DESCRIPTION:mobil.digital kommt am 12.07.2025 nach Schwentinental! Die vhs & Bücherei laden herzlich ein zu einer Veranstaltung beim Bürgerfest – ein buntes Programm für große und kleine Besucherinnen und Besucher erwartet euch. \n\n\n\nMit dabei: unser Podcaststudio sowie: Audiogeschichten produzieren für Klein und Groß \n\n\n\nKommt vorbei und entdeckt digitale Kreativität zum Anfassen!
URL:https://mobil-digital.de/termine/schwentinental/
CATEGORIES:Öffentliche Veranstaltung
ATTACH;FMTTYPE=image/webp:https://mobil-digital.de/wp-content/uploads/2025/02/einsatzorte-modi-bis-2024.webp
END:VEVENT
BEGIN:VEVENT
DTSTART;TZID=Europe/Berlin:20250713T100000
DTEND;TZID=Europe/Berlin:20250713T180000
DTSTAMP:20260425T130828
CREATED:20250708T110240Z
LAST-MODIFIED:20250708T110303Z
UID:1674-1752400800-1752429600@mobil-digital.de
SUMMARY:Landtag SH - Tag der offenen Tür
DESCRIPTION:mobil.digital präsentiert sich beim Tag der offenen Tür des Landtags Schleswig-Holsteins. Kommt vorbei am Stand des Volkshochschulverbands und entdeckt\, wo uns Digitalisierung im Bereich Natur und Garten begegnet.
URL:https://mobil-digital.de/termine/landtag-sh-tag-der-offenen-tuer/
CATEGORIES:Öffentliche Veranstaltung
ATTACH;FMTTYPE=image/webp:https://mobil-digital.de/wp-content/uploads/2025/02/einsatzorte-modi-bis-2024.webp
END:VEVENT
BEGIN:VEVENT
DTSTART;TZID=Europe/Berlin:20250714T153000
DTEND;TZID=Europe/Berlin:20250714T173000
DTSTAMP:20260425T130828
CREATED:20250312T134139Z
LAST-MODIFIED:20250312T134140Z
UID:1138-1752507000-1752514200@mobil-digital.de
SUMMARY:Green-Screen-Workshop für FLC-Parties und andere Veranstaltungen (Kiel)
DESCRIPTION:Probieren Sie in unserem Workshop verschiedene Green-Screen-Apps mit dem Tablet aus und lernen Sie\, wie Sie Kindern und Jugendlichen auf spielerische Weise den Umgang mit dieser faszinierenden Technik näherbringen können. Der praxisorientierte Workshop bietet Methoden\, um technische Grundlagen einfach zu erklären\, und kreative Ideen für den Einsatz bei der nächsten FLC-Abschlussparty. \n\n\n\nAnmeldung hier: (Link Fortbildungsverzeichnis der BZSH)
URL:https://mobil-digital.de/termine/green-screen-workshop-fuer-flc-parties-und-andere-veranstaltungen-kiel/
LOCATION:Servicestelle Digitalisierung im Offenen Kanal Kiel\, Hamburger Chaussee 36\, Kiel\, 24113\, Germany
CATEGORIES:Fortbildung
ATTACH;FMTTYPE=image/jpeg:https://mobil-digital.de/wp-content/uploads/2025/03/220511_Logo_mobildigital.jpg
ORGANIZER;CN="mobil.digital":MAILTO:info@mobil-digital.de
END:VEVENT
BEGIN:VEVENT
DTSTART;TZID=Europe/Berlin:20250715T170000
DTEND;TZID=Europe/Berlin:20250715T180000
DTSTAMP:20260425T130828
CREATED:20250320T152431Z
LAST-MODIFIED:20250521T155048Z
UID:1435-1752598800-1752602400@mobil-digital.de
SUMMARY:Webinar: Best Practice "vhs-Kurs mit Drohnen"
DESCRIPTION:Interview mit Jörgen Johannsen. \n\n\n\nDrohnen programmieren und sie unfallfrei durch einen Parkour fliegen zu lassen\, ist ein Erlebnis für alle Altersgruppen. Jörgen Johannsen von der vhs Rendsburg bietet regelmäßig Kurse mit führerscheinfreien Mini-Drohnen an und teilt in diesem Webinar seine Erfahrungen mit uns. Wenn auch Sie Drohnen-Workshops geben möchten\, melden Sie sich gerne für das kostenfreie Webinar an und leihen die Drohnen dafür bei mobil.digital aus. \n\n\n\nHinweis zu unseren einstündigen Webinaren: Mit unseren kurzen Webinaren möchten wir die Tür öffnen zu neuen Themen und Angeboten. Wir möchten so u.a. Kursleitungen die Möglichkeit bieten\, in ein Thema reinzuschnuppern und zu überlegen\, ob sie es in ihre bestehenden Kurse integrieren oder neue Kurse dazu anbieten möchten. Es besteht die Möglichkeit\, anschließend eine intensive kostenfreie Fortbildung zu sich in die eigene Einrichtung zu holen. Gerne möchten wir in den Webinaren auch eine Plattform bieten zum Erfahrungsaustausch und zur Vernetzung für Kursleitungen und Bibliotheksmitarbeitende mit Vorerfahrung in diesem Themenbereich. Wir richten uns diesbezüglich gerne nach den Wünschen der Teilnehmenden. \n\n\n\nAnmeldung bitte per E-Mail an info@mobil-digital.de.
URL:https://mobil-digital.de/termine/webinar-best-practice-vhs-kurs-mit-drohnen/
CATEGORIES:Fortbildung
ATTACH;FMTTYPE=image/png:https://mobil-digital.de/wp-content/uploads/2025/03/Zeichenflaeche-3.png
ORGANIZER;CN="mobil.digital":MAILTO:info@mobil-digital.de
END:VEVENT
BEGIN:VEVENT
DTSTART;TZID=Europe/Berlin:20250717T000000
DTEND;TZID=Europe/Berlin:20250717T235959
DTSTAMP:20260425T130828
CREATED:20250701T112230Z
LAST-MODIFIED:20250701T112240Z
UID:1659-1752710400-1752796799@mobil-digital.de
SUMMARY:Barsbüttel
DESCRIPTION:mobil.digital besucht am 18.07.2025 Barsbüttel. Die VHS Barsbüttel lädt zur nachmittäglichen Runde für SeniorInnen im Bürgerhaus tohus und wir sind dabei. MIt im Gepäck: 3D-Druck\, digitale Alltagshelfer und VR!
URL:https://mobil-digital.de/termine/barsbuettel/
CATEGORIES:Öffentliche Veranstaltung
ATTACH;FMTTYPE=image/webp:https://mobil-digital.de/wp-content/uploads/2025/02/einsatzorte-modi-bis-2024.webp
END:VEVENT
BEGIN:VEVENT
DTSTART;TZID=Europe/Berlin:20250718T000000
DTEND;TZID=Europe/Berlin:20250718T235959
DTSTAMP:20260425T130828
CREATED:20250521T090134Z
LAST-MODIFIED:20250521T090137Z
UID:1591-1752796800-1752883199@mobil-digital.de
SUMMARY:Sörup
DESCRIPTION:mobil.digital besucht am 18.07.2025 Sörup. Die Bücherei und das Jugendzentrum Sörup laden herzlich ein zum sommerlichen JUZEBÜ.  \n\n\n\nMit dabei: Programmieren für Kids mit dem Intellino-Zug (ab 7 Jahren) plus BeeBots und Bluebots \n\n\n\nKommt vorbei und entdeckt digitale Kreativität zum Anfassen!
URL:https://mobil-digital.de/termine/soerup/
CATEGORIES:Öffentliche Veranstaltung
ATTACH;FMTTYPE=image/webp:https://mobil-digital.de/wp-content/uploads/2025/02/einsatzorte-modi-bis-2024.webp
END:VEVENT
BEGIN:VEVENT
DTSTART;TZID=Europe/Berlin:20250719T170000
DTEND;TZID=Europe/Berlin:20250719T200000
DTSTAMP:20260425T130828
CREATED:20250521T090649Z
LAST-MODIFIED:20250521T090651Z
UID:1593-1752944400-1752955200@mobil-digital.de
SUMMARY:Geesthacht Kulturnacht
DESCRIPTION:Am 19.07.2025 tourt mobil.digital nach Geesthacht – seid dabei! VHS & Bücherei laden herzlich ein zu einer Veranstaltung zur Kulturnacht von 17:00–20:00 Uhr – ein buntes Programm für große und kleine Besucherinnen und Besucher erwartet euch. \n\n\n\nMit dabei: 3D-Druck kreativ und TagTool – interaktive Animationen \n\n\n\nKommt vorbei und entdeckt digitale Kreativität zum Anfassen!
URL:https://mobil-digital.de/termine/geesthacht-kulturnacht/
CATEGORIES:Öffentliche Veranstaltung
ATTACH;FMTTYPE=image/webp:https://mobil-digital.de/wp-content/uploads/2025/02/einsatzorte-modi-bis-2024.webp
END:VEVENT
BEGIN:VEVENT
DTSTART;TZID=Europe/Berlin:20250729T000000
DTEND;TZID=Europe/Berlin:20250729T235959
DTSTAMP:20260425T130828
CREATED:20250708T091627Z
LAST-MODIFIED:20250708T092134Z
UID:1665-1753747200-1753833599@mobil-digital.de
SUMMARY:Kronshagen (Comic)
DESCRIPTION:Die Bibliothek in Kronshagen bietet zusammen mit mobil.digital im Rahmen des Ferienprogramms einen digitalen Comic-Workshop an. Sprechblasen\, Comicstrips und Zeichnung – alles wird auf dem Tablet erstellt und zu einem Comicstrip zusammengefügt.
URL:https://mobil-digital.de/termine/kronshagen/
CATEGORIES:Workshop
ATTACH;FMTTYPE=image/webp:https://mobil-digital.de/wp-content/uploads/2025/02/einsatzorte-modi-bis-2024.webp
END:VEVENT
BEGIN:VEVENT
DTSTART;TZID=Europe/Berlin:20250731T000000
DTEND;TZID=Europe/Berlin:20250731T235959
DTSTAMP:20260425T130828
CREATED:20250708T092023Z
LAST-MODIFIED:20250708T092047Z
UID:1667-1753920000-1754006399@mobil-digital.de
SUMMARY:Kronshagen (Green Screen)
DESCRIPTION:Buchcover sind der erste Eindruck eines Buches. Ein Tablet und ein grüner Vorhang machen es möglich: Mit der Green-Screen-Technik können die TeilnehmerInnen des Ferienprogramms in der Bibliothek Kronshagen ein Bild von sich digital in das Cover ihres Lieblingsbuchs einfügen.
URL:https://mobil-digital.de/termine/kronshagen-2/
CATEGORIES:Workshop
ATTACH;FMTTYPE=image/webp:https://mobil-digital.de/wp-content/uploads/2025/02/einsatzorte-modi-bis-2024.webp
END:VEVENT
END:VCALENDAR