BEGIN:VCALENDAR
VERSION:2.0
PRODID:-//Mobil Digital - ECPv6.15.17.1//NONSGML v1.0//EN
CALSCALE:GREGORIAN
METHOD:PUBLISH
X-ORIGINAL-URL:https://mobil-digital.de
X-WR-CALDESC:Veranstaltungen für Mobil Digital
REFRESH-INTERVAL;VALUE=DURATION:PT1H
X-Robots-Tag:noindex
X-PUBLISHED-TTL:PT1H
BEGIN:VTIMEZONE
TZID:Europe/Berlin
BEGIN:DAYLIGHT
TZOFFSETFROM:+0100
TZOFFSETTO:+0200
TZNAME:CEST
DTSTART:20240331T010000
END:DAYLIGHT
BEGIN:STANDARD
TZOFFSETFROM:+0200
TZOFFSETTO:+0100
TZNAME:CET
DTSTART:20241027T010000
END:STANDARD
BEGIN:DAYLIGHT
TZOFFSETFROM:+0100
TZOFFSETTO:+0200
TZNAME:CEST
DTSTART:20250330T010000
END:DAYLIGHT
BEGIN:STANDARD
TZOFFSETFROM:+0200
TZOFFSETTO:+0100
TZNAME:CET
DTSTART:20251026T010000
END:STANDARD
BEGIN:DAYLIGHT
TZOFFSETFROM:+0100
TZOFFSETTO:+0200
TZNAME:CEST
DTSTART:20260329T010000
END:DAYLIGHT
BEGIN:STANDARD
TZOFFSETFROM:+0200
TZOFFSETTO:+0100
TZNAME:CET
DTSTART:20261025T010000
END:STANDARD
END:VTIMEZONE
BEGIN:VEVENT
DTSTART;TZID=Europe/Berlin:20250906T140000
DTEND;TZID=Europe/Berlin:20250906T170000
DTSTAMP:20260421T093932
CREATED:20250813T132736Z
LAST-MODIFIED:20250813T132743Z
UID:1742-1757167200-1757178000@mobil-digital.de
SUMMARY:Postamt für Demokratie in Bordesholm
DESCRIPTION:Im Rahmen von Bordesholm Kultur Tag & Nacht eröffnet die vhs Bordesholm-Wattenbek auf dem Rathausplatz gemeinsam mit mobil.digital eine Filiale des Postamts für Demokratie.  \n\n\n\nDas „Postamt für Demokratie“ ist eine mobile Mitmachaktion des yaw!kollektivs\, die mobil.digital für den Einsatz in und mit Bibliotheken und Volkshochschulen mit Lasercutter und 3D-Drucker adaptiert hat. \n\n\n\nKommt vorbei\, kommt ins Gespräch und stempelt gemeinsam für Demokratie\, Vielfalt und Offenheit!
URL:https://mobil-digital.de/termine/postamt-fuer-demokratie-in-bordesholm/
CATEGORIES:Öffentliche Veranstaltung
ATTACH;FMTTYPE=image/webp:https://mobil-digital.de/wp-content/uploads/2025/02/einsatzorte-modi-bis-2024.webp
END:VEVENT
BEGIN:VEVENT
DTSTART;TZID=Europe/Berlin:20250913T000000
DTEND;TZID=Europe/Berlin:20250913T235959
DTSTAMP:20260421T093932
CREATED:20250312T134855Z
LAST-MODIFIED:20250807T130247Z
UID:1144-1757721600-1757807999@mobil-digital.de
SUMMARY:Schwarzenbek
DESCRIPTION:3D-Druck für Groß und Klein! (Ort folgt) \n\n\n\nSamstag\, 13. September 2025 | 11:00 – 17:00 Uhr  \n\n\n\nVon der Idee zum fertigen Objekt in wenigen Stunden – das ist die Faszination des 3D-Drucks! Doch wie funktioniert das wirklich und was ist alles möglich? Mobil.digital\, der mobile digitale Knotenpunkt Schleswig-Holstein macht Station in Schwarzenbek und zeigt Euch\, wie aus digitalen Entwürfen echte Gegenstände werden. In der Digitalwerkstatt auf Rädern könnt Ihr selbst designen\, drucken und dabei praktische Lösungen für den Alltag entdecken –  für jedes Alter\, ohne Vorkenntnisse und kostenfrei! \n\n\n\nDrei spannende Mitmachaktionen erwarten Euch: \n\n\n\n1. Kreativaktion: „Freundschaftsbrücken bauen“ \n\n\n\nWann: Durchgehend vor dem mobil.digital-BusFür wen: Kinder und Familien(keine Anmeldung erforderlich)Was: Mit den Pappverbindern von MakeDo\, 3D-gedruckten Werkzeugen und Hilfsmitteln bauen wir kleine Brücken und Verbindungen – ganz im Sinne von Freundschaft und Zusammenarbeit. Ein offenes Bastelangebot\, bei dem Ihr kreativ werden und gemeinsam Spaß haben könnt. Ideal zum Mitmachen und Erproben für Groß und Klein! \n\n\n\n2. 3D-Druck-Workshop: „Druck dein Schmuck!“ \n\n\n\nWann: 12:00 Uhr und 14:00 Uhr (jeweils 90 Minuten)Für wen: Kids ab 10 Jahren (maximal 6 Teilnehmende pro Workshop)Anmeldung: Per E-Mail (einfügen wenn gewünscht) oder rechtzeitig vor OrtWas: Gestaltet stylische Schmuckanhänger im Low-Poly-Look! Ihr wählt euer Motiv selbst aus\, erstellt das Design auf dem iPad und druckt es direkt auf unserem 3D-Drucker aus. Das fertige Schmuckstück nehmt Ihr natürlich mit nach Hause. \n\n\n\nLearning by Doing sah noch nie so cool aus! \n\n\n\n3. 3D-Druck-Challenge: „Wir retten euren Kühlschrank (mit einem Plastiknupsie)“ \n\n\n\nWann: Durchgehend von 11:00 – 17:00 UhrFür wen: Alle Interessierten (keine Anmeldung erforderlich)Was: Kennen Sie das? Eigentlich ist nur ein kleines Teil kaputt? Das gibt’s aber nicht einzelnd und jetzt sollen sie den ganzen Kühlschrank (oder einen anderen Haushaltsgegenstand) wegwerfen? Bitte nicht! Bringen Sie ein kleines\, defektes Teil von Zuhause mit\, oder nehmen Sie die Maße. Gemeinsam versuchen wir\, es nachzubauen und auszudrucken. Eine echte Tüftel-Challenge für alle\, die Lust auf praktisches Problemlösen haben!Hinweis: Bitte keine zu großen Teile – auch unser 3D-Drucker hat seine Grenzen. \n\n\n\n\n\n\n\nAlle Angebote sind kostenfrei! Wir freuen uns auf einen bunten\, kreativen Tag und hoffentlich einen schönen Beitrag zur gelebten Städtefreundschaft \n\n\n\nEine Kooperationsveranstaltung von mobil.digital (Bibliotheken SH & Landesverband der Volkshochschulen) und der VHS Schwarzenbek.
URL:https://mobil-digital.de/termine/schwarzenbek/
CATEGORIES:Öffentliche Veranstaltung
ATTACH;FMTTYPE=image/webp:https://mobil-digital.de/wp-content/uploads/2025/02/einsatzorte-modi-bis-2024.webp
END:VEVENT
BEGIN:VEVENT
DTSTART;TZID=Europe/Berlin:20250913T130000
DTEND;TZID=Europe/Berlin:20250913T170000
DTSTAMP:20260421T093932
CREATED:20250701T112446Z
LAST-MODIFIED:20250813T092720Z
UID:1661-1757768400-1757782800@mobil-digital.de
SUMMARY:Laboe
DESCRIPTION:mobil.digital zu Gast beim Sommerfest \n\n\n\nDie Gemeindebücherei Laboe lädt herzlich ein: Am Samstag\, 13. September (13-17 Uhr) gastiert mobil.digital mit seiner Digitalwerkstatt im Kurpark. \n\n\n\nErleben Sie\, wie moderne Technologien kreative Prozesse unterstützen können! Mit KI-Tools entwickeln Sie individuelle Designs\, die anschließend mit unserem Lasercutter präzise ausgeschnitten oder graviert werden. Parallel laden iPads mit der Zeichen-App Procreate zum digitalen Gestalten ein. \n\n\n\nDas Angebot richtet sich an alle Altersgruppen und erfordert keine Vorerfahrung. Kommen Sie einfach vorbei\, probieren Sie sich aus und nehmen Sie Ihre Ergebnisse direkt mit nach Hause.  \n\n\n\nKostenfrei und ohne Anmeldung – wir freuen uns auf Ihren Besuch!
URL:https://mobil-digital.de/termine/laboe/
CATEGORIES:Öffentliche Veranstaltung
ATTACH;FMTTYPE=image/webp:https://mobil-digital.de/wp-content/uploads/2025/02/einsatzorte-modi-bis-2024.webp
END:VEVENT
BEGIN:VEVENT
DTSTART;TZID=Europe/Berlin:20250920T000000
DTEND;TZID=Europe/Berlin:20250920T235959
DTSTAMP:20260421T093932
CREATED:20250422T090042Z
LAST-MODIFIED:20250813T131329Z
UID:1560-1758326400-1758412799@mobil-digital.de
SUMMARY:Brunsbüttel - Weltkindertag
DESCRIPTION:Weltkindertag kreativ erleben – mit mobil.digital \n\n\n\nAm 20. September laden die Bücherei Brunsbüttel und mobil.digital zur kreativen Werkstatt beim Weltkindertag rund um das Jugendzentrum in Brunsbüttel.  \n\n\n\nIm Mittelpunkt steht das wichtige Thema „Kinder haben Rechte“. Mit modernster Lasercutter-Technologie entstehen individuelle Stempel aus Moosgummi – von der eigenen Idee bis zum fertigen Stempel. Diese werden anschließend genutzt\, um aussagekräftige Postkarten rund um Kinderrechte zu gestalten. \n\n\n\nWarum mitmachen? \n\n\n\n\nModerne Fertigungstechniken werden kindgerecht erklärt \n\n\n\nIhre Kinder erleben\, wie eigene Ideen mit Technologie umgesetzt werden \n\n\n\nWichtige gesellschaftliche Themen werden spielerisch erfahrbar \n\n\n\nGemeinsames Gestalten stärkt das Familienerlebnis
URL:https://mobil-digital.de/termine/brunsbuettel-2/
CATEGORIES:Öffentliche Veranstaltung
ATTACH;FMTTYPE=image/webp:https://mobil-digital.de/wp-content/uploads/2025/02/einsatzorte-modi-bis-2024.webp
END:VEVENT
BEGIN:VEVENT
DTSTART;TZID=Europe/Berlin:20250920T000000
DTEND;TZID=Europe/Berlin:20250920T235959
DTSTAMP:20260421T093932
CREATED:20250422T090355Z
LAST-MODIFIED:20250814T085346Z
UID:1562-1758326400-1758412799@mobil-digital.de
SUMMARY:Tornesch
DESCRIPTION:Gemeinsam mit der VHS Tornesch wird mobil.digital am Stadtfest teilnehmen. \n\n\n\nmobil.digital verwandelt mit der vhs Tornesch das Stadtfest in ein Nachrichtenstudio! Erleben Sie\, wie moderne Medientechnik funktioniert und werden Sie selbst zum Nachrichtensprecher oder zur Nachrichtensprecherin. Mit KI-Unterstützung gestalten wir gemeinsam Nachrichtenhintergründe und entwickeln Visionen für die „VHS der Zukunft“. Vor unserem GreenScreen entstehen dann Ihre ganz persönlichen Nachrichtenbeiträge – wahlweise als Foto oder Video. \n\n\n\nSie erleben dabei\, wie einfach moderne Medientechnik heute geworden ist und können gemeinsam mit Ihrer Familie kreativ experimentieren. Während Sie aktiv Zukunftsvisionen für Bildungseinrichtungen mitgestalten\, werden komplexe Technologien spielerisch und verständlich erklärt. Ihre entstandenen Aufnahmen schauen wir gemeinsam auf dem großen Bildschirm an\, außerdem können Sie diese direkt mitnehmen – entweder per AirDrop aufs eigene Handy oder als gedrucktes Foto zum Anfassen. \n\n\n\nDas Angebot ist perfekt für alle Neugierigen\, die schon immer mal „Fernsehen machen“ wollten\, für Familien mit Jugendlichen\, die sich für Medientechnik interessieren\, und für Menschen\, die Spaß an kreativen Experimenten haben und KI sowie GreenScreen-Technologie ausprobieren möchten. \n\n\n\nKeine Vorerfahrung nötig – wir führen Sie Schritt für Schritt durch den Prozess! Bringen Sie einfach Ihre Neugier und vielleicht ein paar Ideen für Ihre Traumbildungseinrichtung mit
URL:https://mobil-digital.de/termine/tornesch/
CATEGORIES:Öffentliche Veranstaltung
ATTACH;FMTTYPE=image/webp:https://mobil-digital.de/wp-content/uploads/2025/02/einsatzorte-modi-bis-2024.webp
END:VEVENT
BEGIN:VEVENT
DTSTART;TZID=Europe/Berlin:20250924T000000
DTEND;TZID=Europe/Berlin:20250924T235959
DTSTAMP:20260421T093932
CREATED:20250505T132847Z
LAST-MODIFIED:20250505T132850Z
UID:1569-1758672000-1758758399@mobil-digital.de
SUMMARY:Quickborn
DESCRIPTION:Das Team von mobil.digital bildet das Team der Stadtbücherei Quickborn und weitere Teilnehmende zum Thema Escape Room fort.
URL:https://mobil-digital.de/termine/quickborn/
CATEGORIES:Fortbildung
ATTACH;FMTTYPE=image/webp:https://mobil-digital.de/wp-content/uploads/2025/02/einsatzorte-modi-bis-2024.webp
END:VEVENT
BEGIN:VEVENT
DTSTART;TZID=Europe/Berlin:20250927T110000
DTEND;TZID=Europe/Berlin:20250927T140000
DTSTAMP:20260421T093932
CREATED:20250909T095632Z
LAST-MODIFIED:20250909T095638Z
UID:1756-1758970800-1758981600@mobil-digital.de
SUMMARY:60-jähriges Jubiläum VHS Trittau mit mobil.digital
DESCRIPTION:Jubiläumsfeier mit digitalen Highlights – mobil.digital gratuliert der VHS Trittau!\n\n\n\nWann: Samstag\, 27. September 2025\, 11:00-14:00 UhrWo: VHS Trittau\, Rausdorfer Str. 1\, 22946 Trittau \n\n\n\n60 Jahre VHS Trittau – das ist ein Grund zu feiern! mobil.digital gratuliert herzlich und bringt zur Jubiläumsfeier zwei besondere Mitmach-Stationen mit\, die zeigen\, wie vielfältig und spannend Lernen heute sein kann. Ob Sie den programmierbaren Intelino Zug kennenlernen oder sich Ihren eigenen Schmuck mit dem 3D-Drucker gestalten möchten – bei uns können alle Generationen gemeinsam experimentieren und staunen. \n\n\n\nAn unserer ersten Station lernen Sie den Intelino Zug kennen\, einen cleveren kleinen Roboter\, der spielerisch in die Welt des Programmierens einführt. Kinder\, Jugendliche und Erwachsene können gemeinsam entdecken\, wie einfach es ist\, dem Zug neue Aufgaben beizubringen und ihn durch verschiedene Parcours zu steuern. An der zweiten Station dreht sich alles um 3D-Druck mit dem Schwerpunkt Schmuckdesign – hier entstehen individuelle Anhänger\, Ringe oder andere kleine Kunstwerke\, die Sie als Erinnerung an diesen besonderen Tag mitnehmen können. \n\n\n\nDie Angebote richten sich an alle neugierigen Besucher*innen der Jubiläumsfeier\, an Familien mit Kindern jeden Alters und an alle\, die schon immer mal wissen wollten\, was sich hinter Begriffen wie Programmieren und 3D-Druck verbirgt. Schauen Sie einfach vorbei\, probieren Sie aus und lassen Sie sich überraschen\, wie zugänglich diese Zukunftstechnologien bereits heute sind. \n\n\n\nKeine Anmeldung erforderlich – kommen Sie einfach vorbei und feiern Sie mit uns 60 Jahre lebendige Bildungsarbeit in Trittau!
URL:https://mobil-digital.de/termine/60-jaehriges-jubilaeum-vhs-trittau-mit-mobil-digital/
CATEGORIES:Öffentliche Veranstaltung
END:VEVENT
END:VCALENDAR