BEGIN:VCALENDAR
VERSION:2.0
PRODID:-//Mobil Digital - ECPv6.15.17.1//NONSGML v1.0//EN
CALSCALE:GREGORIAN
METHOD:PUBLISH
X-ORIGINAL-URL:https://mobil-digital.de
X-WR-CALDESC:Veranstaltungen für Mobil Digital
REFRESH-INTERVAL;VALUE=DURATION:PT1H
X-Robots-Tag:noindex
X-PUBLISHED-TTL:PT1H
BEGIN:VTIMEZONE
TZID:Europe/Berlin
BEGIN:DAYLIGHT
TZOFFSETFROM:+0100
TZOFFSETTO:+0200
TZNAME:CEST
DTSTART:20240331T010000
END:DAYLIGHT
BEGIN:STANDARD
TZOFFSETFROM:+0200
TZOFFSETTO:+0100
TZNAME:CET
DTSTART:20241027T010000
END:STANDARD
BEGIN:DAYLIGHT
TZOFFSETFROM:+0100
TZOFFSETTO:+0200
TZNAME:CEST
DTSTART:20250330T010000
END:DAYLIGHT
BEGIN:STANDARD
TZOFFSETFROM:+0200
TZOFFSETTO:+0100
TZNAME:CET
DTSTART:20251026T010000
END:STANDARD
BEGIN:DAYLIGHT
TZOFFSETFROM:+0100
TZOFFSETTO:+0200
TZNAME:CEST
DTSTART:20260329T010000
END:DAYLIGHT
BEGIN:STANDARD
TZOFFSETFROM:+0200
TZOFFSETTO:+0100
TZNAME:CET
DTSTART:20261025T010000
END:STANDARD
END:VTIMEZONE
BEGIN:VEVENT
DTSTART;TZID=Europe/Berlin:20251103T170000
DTEND;TZID=Europe/Berlin:20251103T180000
DTSTAMP:20260421T061404
CREATED:20250814T094046Z
LAST-MODIFIED:20250925T092657Z
UID:1753-1762189200-1762192800@mobil-digital.de
SUMMARY:Webinar: Ausleihbox 3D-Druck
DESCRIPTION:Webinar: Ausleihbox 3D-Druck\n\n\n\nWer unsere neuen 3D-Drucker „A1 mini“ von BambuLab kennenlernen möchte und sehen möchte\, was in der Ausleihbox noch alles drin ist\, die/der ist bei diesem Webinar genau richtig! Wir zeigen Ihnen die Schritte von der ersten Idee bis zum Start des Drucks und Sie lernen alle notwendigen Programme und Schritte kennen. Gerne beantworten wir alle Fragen zu möglichen Formaten\, den Nutzungsbedingungen der kostenfreien Ausleihe und dem Transport in Ihre Einrichtung. Sie erfahren\, welche Materialien und Werkzeuge in der Box enthalten sind\, wie Sie den 3D-Drucker sicher in Betrieb nehmen und welche Software für das Design und den Druck verwendet wird. Dabei zeigen wir Ihnen den kompletten Workflow von der digitalen Idee bis zum fertigen Objekt und geben praktische Tipps für den Einsatz in Ihrer Bildungseinrichtung. Außerdem klären wir organisatorische Fragen zur Buchung\, Abholung und Rückgabe der Ausleihbox. \n\n\n\nBitte beachten Sie\, dass wir die Ausleihbox nur ausleihen\, wenn Sie über ausreichend praktische Erfahrung im Umgang mit 3D-Druckern verfügen. Wenn Sie nach dem Webinar Interesse an einer Ausleihe\, aber noch keine praktische Erfahrung haben\, sprechen Sie uns an\, wir organisieren gerne einen Einführungsworkshop in Ihrer Einrichtung. \n\n\n\nHinweis zu unseren einstündigen Webinaren: Mit unseren kurzen Webinaren möchten wir die Tür öffnen zu neuen Themen und Angeboten. Wir möchten so u.a. Kursleitungen die Möglichkeit bieten\, in ein Thema reinzuschnuppern und zu überlegen\, ob sie es in ihre bestehenden Kurse integrieren oder neue Kurse dazu anbieten möchten. Es besteht die Möglichkeit\, anschließend eine intensive kostenfreie Fortbildung zu sich in die eigene Einrichtung zu holen. Gerne möchten wir in den Webinaren auch eine Plattform bieten zum Erfahrungsaustausch und zur Vernetzung für Kursleitungen und Bibliotheksmitarbeitende mit Vorerfahrung in diesem Themenbereich. Wir richten uns diesbezüglich gerne nach den Wünschen der Teilnehmenden. \n\n\n\nAnmeldung bitte per E-Mail an info@mobil-digital.de.
URL:https://mobil-digital.de/termine/webinar-ausleihbox-3d-druck/
CATEGORIES:Fortbildung
END:VEVENT
BEGIN:VEVENT
DTSTART;TZID=Europe/Berlin:20251107T000000
DTEND;TZID=Europe/Berlin:20251107T235959
DTSTAMP:20260421T061404
CREATED:20250312T135232Z
LAST-MODIFIED:20250320T145948Z
UID:1148-1762473600-1762559999@mobil-digital.de
SUMMARY:Fahrbibliothekstag
DESCRIPTION:Wir präsentieren einige Digitalisierungsangebote beim Fahrbibliotheksfortbildungstag.
URL:https://mobil-digital.de/termine/fahrbibliothekstag/
LOCATION:Bibliotheken SH\, Wrangelstraße 1\, Rendsburg\, 24768
CATEGORIES:Fortbildung
ATTACH;FMTTYPE=image/jpeg:https://mobil-digital.de/wp-content/uploads/2025/03/220511_Logo_mobildigital.jpg
END:VEVENT
BEGIN:VEVENT
DTSTART;TZID=Europe/Berlin:20251112T100000
DTEND;TZID=Europe/Berlin:20251112T123000
DTSTAMP:20260421T061404
CREATED:20250813T123121Z
LAST-MODIFIED:20250925T082456Z
UID:1735-1762941600-1762950600@mobil-digital.de
SUMMARY:Green Screen goes Christmas
DESCRIPTION:Wir haben den Beweis in Form eines Fotos: Kleine Wichtel verstecken sich in allen Ecken und treiben Schabernack in Bücherei und Volkshochschule! \n\n\n\nProbieren Sie in unserem Workshop verschiedene Ideen für Green-Screen-Projekte aus. Entdecken Sie passende Apps auf dem Tablet und lernen Sie\, wie Sie Kindern und Jugendlichen diese faszinierende Technik näherbringen können. Das gelingt durch verschiedene Aufgaben und Experimente. \n\n\n\nDer praxisorientierte Workshop bietet beides: Methoden\, um technische Grundlagen einfach zu erklären\, und kreative Ideen für die Vorweihnachtszeit. Diese faszinierende Technik kann Menschen optisch fliegen lassen\, indem sie Hinter- und Vordergründe neu miteinander kombiniert und erzielt viele weitere unglaubliche Effekte. \n\n\n\nmobil.digital bietet für die Umsetzung in der eigenen Bücherei oder Volkshochschule zusätzlich die kostenfreie Ausleihe von mehreren GreenScreens in zwei verschiedenen Größen\, Tablets mit der passenden App\, Beleuchtung\, Stative und einen Fotodrucker – nur die Wichtelmützen und das Fotopapier muss selbst besorgt werden! \n\n\n\nAnmeldung: Über das Fortbildungsverzeichnis von Bibliotheken SH
URL:https://mobil-digital.de/termine/green-screen-goes-christmas/
LOCATION:Offener Kanal Kiel\, Hamburger Chaussee 36\, Kiel
CATEGORIES:Fortbildung
ATTACH;FMTTYPE=image/jpeg:https://mobil-digital.de/wp-content/uploads/2025/08/GreenScreen_Wichtel_c_mobil.digital_s.jpg
END:VEVENT
END:VCALENDAR