BEGIN:VCALENDAR
VERSION:2.0
PRODID:-//Mobil Digital - ECPv6.15.17.1//NONSGML v1.0//EN
CALSCALE:GREGORIAN
METHOD:PUBLISH
X-ORIGINAL-URL:https://mobil-digital.de
X-WR-CALDESC:Veranstaltungen für Mobil Digital
REFRESH-INTERVAL;VALUE=DURATION:PT1H
X-Robots-Tag:noindex
X-PUBLISHED-TTL:PT1H
BEGIN:VTIMEZONE
TZID:Europe/Berlin
BEGIN:DAYLIGHT
TZOFFSETFROM:+0100
TZOFFSETTO:+0200
TZNAME:CEST
DTSTART:20240331T010000
END:DAYLIGHT
BEGIN:STANDARD
TZOFFSETFROM:+0200
TZOFFSETTO:+0100
TZNAME:CET
DTSTART:20241027T010000
END:STANDARD
BEGIN:DAYLIGHT
TZOFFSETFROM:+0100
TZOFFSETTO:+0200
TZNAME:CEST
DTSTART:20250330T010000
END:DAYLIGHT
BEGIN:STANDARD
TZOFFSETFROM:+0200
TZOFFSETTO:+0100
TZNAME:CET
DTSTART:20251026T010000
END:STANDARD
BEGIN:DAYLIGHT
TZOFFSETFROM:+0100
TZOFFSETTO:+0200
TZNAME:CEST
DTSTART:20260329T010000
END:DAYLIGHT
BEGIN:STANDARD
TZOFFSETFROM:+0200
TZOFFSETTO:+0100
TZNAME:CET
DTSTART:20261025T010000
END:STANDARD
END:VTIMEZONE
BEGIN:VEVENT
DTSTART;TZID=Europe/Berlin:20251204T160000
DTEND;TZID=Europe/Berlin:20251204T180000
DTSTAMP:20260421T043033
CREATED:20250813T112608Z
LAST-MODIFIED:20251117T125117Z
UID:1727-1764864000-1764871200@mobil-digital.de
SUMMARY:KI-KursleiterInnen im Dialog: Moderierter Erfahrungsaustausch
DESCRIPTION:Tauschen Sie sich mit anderen erfahrerenen KI-KursleiterInnen von Volkshochschulen aus ganz Schleswig-Holstein über bewährte Methoden und praktische Inhalte aus! In diesem von mobil.digital moderierten Treffen teilen wir erfolgreiche Aufgabenstellungen\, didaktische Ansätze und Best-Practice-Beispiele. Profitieren Sie von den Erfahrungen Ihrer Kolleginnen und erweitern Sie Ihr methodisches Repertoire für zielgruppenorientierte KI-Kurse. Das Format bietet Raum für offenen Austausch\, konkrete Tipps und die Diskussion aktueller Herausforderungen. \n\n\n\nSie haben selber noch keine Erfahrungen mit der Leitung von KI-Kursen an Volkshochschulen und überlegen diese in Zukunft anzubieten? Dann nennen Sie uns gerne diesen Wunsch bei der Anmeldung! Sicherlich finden wir ggf. auch Zeit für Ihre Fragen. \n\n\n\nMax. Personenzahl: 15 Personen \n\n\n\nAnmeldung: Über das Fortbildungsverzeichnis von Bibliotheken SH: https://www.bibliotheken-sh.de/leistungen/fortbildungen-und-veranstaltungen/ki-kursleiterinnen-im-dialog-moderierter-erfahrungsaustausch
URL:https://mobil-digital.de/termine/ki-kursleiterinnen-im-dialog-moderierter-erfahrungsaustausch/
CATEGORIES:Fortbildung
END:VEVENT
END:VCALENDAR