BEGIN:VCALENDAR
VERSION:2.0
PRODID:-//Mobil Digital - ECPv6.15.17.1//NONSGML v1.0//EN
CALSCALE:GREGORIAN
METHOD:PUBLISH
X-WR-CALNAME:Mobil Digital
X-ORIGINAL-URL:https://mobil-digital.de
X-WR-CALDESC:Veranstaltungen für Mobil Digital
REFRESH-INTERVAL;VALUE=DURATION:PT1H
X-Robots-Tag:noindex
X-PUBLISHED-TTL:PT1H
BEGIN:VTIMEZONE
TZID:Europe/Berlin
BEGIN:DAYLIGHT
TZOFFSETFROM:+0100
TZOFFSETTO:+0200
TZNAME:CEST
DTSTART:20250330T010000
END:DAYLIGHT
BEGIN:STANDARD
TZOFFSETFROM:+0200
TZOFFSETTO:+0100
TZNAME:CET
DTSTART:20251026T010000
END:STANDARD
BEGIN:DAYLIGHT
TZOFFSETFROM:+0100
TZOFFSETTO:+0200
TZNAME:CEST
DTSTART:20260329T010000
END:DAYLIGHT
BEGIN:STANDARD
TZOFFSETFROM:+0200
TZOFFSETTO:+0100
TZNAME:CET
DTSTART:20261025T010000
END:STANDARD
BEGIN:DAYLIGHT
TZOFFSETFROM:+0100
TZOFFSETTO:+0200
TZNAME:CEST
DTSTART:20270328T010000
END:DAYLIGHT
BEGIN:STANDARD
TZOFFSETFROM:+0200
TZOFFSETTO:+0100
TZNAME:CET
DTSTART:20271031T010000
END:STANDARD
END:VTIMEZONE
BEGIN:VEVENT
DTSTART;TZID=Europe/Berlin:20260114T000000
DTEND;TZID=Europe/Berlin:20260114T235959
DTSTAMP:20260421T024147
CREATED:20260112T142425Z
LAST-MODIFIED:20260112T143515Z
UID:1854-1768348800-1768435199@mobil-digital.de
SUMMARY:Quickborn
DESCRIPTION:mobil.digital darf mit den Mitarbeitenden der Bibliothek in Quickborn den neu angeschafften 3D-Drucker genauer unter die Lupe nehmen sowie verschiedene Nutzungsszenarien und Projekte durchdenken.
URL:https://mobil-digital.de/termine/quickborn-2/
CATEGORIES:Fortbildung
ATTACH;FMTTYPE=image/gif:https://mobil-digital.de/wp-content/uploads/2025/02/einsatzorte-modi-bis-2024.gif
END:VEVENT
BEGIN:VEVENT
DTSTART;TZID=Europe/Berlin:20260128T090000
DTEND;TZID=Europe/Berlin:20260128T150000
DTSTAMP:20260421T024147
CREATED:20260112T130221Z
LAST-MODIFIED:20260112T130229Z
UID:1850-1769590800-1769612400@mobil-digital.de
SUMMARY:Hörspiel leicht gemacht! Fortbildung in Altenholz (Anmeldung möglich)
DESCRIPTION:Achtung\, Aufnahme! – ein Rascheln\, ein Flüstern\, ein Geräusch aus dem Off – und schon entsteht eine ganze Welt im Kopf. In dieser Fortbildung entdeckst Du\, wie Geschichten hörbar werden: Mit Stimme\, Klang und Fantasie begeistern sie alle Altersgruppen. \n\n\n\nDie von mobil.digital mitgebrachten iPads sind mit der App „Audio Adventure“ ausgestattet. Diese Kombination ermöglicht es Dir\, mit wenig Technik- und Zeitaufwand kreativ und ganz ohne Tonstudio Hörspiele zu produzieren. Die App bietet EinsteigerInnen jeden Alters einen barrierefreien Einstieg\, da sie mit Piktogrammen arbeitet. Bestens geeignet für den Einsatz in der Bibliothek als generationsübergreifender Workshop oder für Sprachkurse in der Volkshochschule. \n\n\n\nKlingt spannend? – Anmelden kannst Du Dich kostenfrei\, wenn Du bei einer Bücherei oder Volkshochschule arbeitest. \n\n\n\nWo? – Gemeindebücherei Altenholz\, Klausdorfer Str. 78b\, 24161 AltenholzWann? – 28.01.2026\, 9-15 Uhr \n\n\n\nAnmeldung per E-Mail an info@mobil-digital.de
URL:https://mobil-digital.de/termine/hoerspiel-leicht-gemacht-fortbildung-in-altenholz-anmeldung-moeglich/
CATEGORIES:Fortbildung
ATTACH;FMTTYPE=image/jpeg:https://mobil-digital.de/wp-content/uploads/2025/03/220511_Logo_mobildigital.jpg
END:VEVENT
BEGIN:VEVENT
DTSTART;TZID=Europe/Berlin:20260129T170000
DTEND;TZID=Europe/Berlin:20260129T180000
DTSTAMP:20260421T024147
CREATED:20250814T091334Z
LAST-MODIFIED:20250814T092102Z
UID:1750-1769706000-1769709600@mobil-digital.de
SUMMARY:Webinar: Brettspiele und Making
DESCRIPTION:Brettspiele selbst gemacht – Webinar mit mobil.digital \n\n\n\nIhre Lieblingsspiele brauchen neues Zubehör oder Sie haben schon immer davon geträumt\, eigene Spielelemente zu gestalten? In unserem Webinar zeigen wir Ihnen\, wie moderne Making-Technologien Ihre Brettspiel-Leidenschaft auf ein neues Level heben können. Von individuellen Spielfiguren bis zu personalisierten Würfeln – wir stellen verschiedene Werkzeuge und Software vor\, mit denen Sie Ihr ganz persönliches Spielmaterial herstellen können. \n\n\n\nSie erfahren\, wie Sie eigene Figuren am Computer designen und anschließend per 3D-Druck zum Leben erwecken\, wie Lasercutter dabei helfen\, individuelle Würfel oder andere Spielkomponenten zu fertigen\, und welche weiteren Möglichkeiten es gibt\, Zubehör und Spielmaterial individuell herzustellen. Dabei stellen wir Ihnen verschiedene Software-Lösungen vor und zeigen praktische Beispiele aus unserer Digitalwerkstatt. \n\n\n\nDas Webinar richtet sich an alle Brettspiel-Enthusiasten\, die gerne basteln und gestalten\, an Familien\, die ihre Lieblingsspiele personalisieren möchten\, und an alle Neugierigen\, die sehen wollen\, was 3D-Druck und Lasercutting praktisch können. Nach dem Webinar haben Sie konkrete Ideen und wissen\, welche Werkzeuge für Ihre Projekte geeignet sind – leihen Sie doch im Anschluss vielleicht einen unserer 3D Drucker aus oder sprechen Sie uns auf einen Abruf-Präsenzworkshop\, in dem Sie die Technologien direkt ausprobieren können. \n\n\n\nHinweis zu unseren einstündigen Webinaren: Mit unseren kurzen Webinaren möchten wir die Tür öffnen zu neuen Themen und Angeboten. Wir möchten so u.a. Kursleitungen die Möglichkeit bieten\, in ein Thema reinzuschnuppern und zu überlegen\, ob sie es in ihre bestehenden Kurse integrieren oder neue Kurse dazu anbieten möchten. Es besteht die Möglichkeit\, anschließend eine intensive kostenfreie Fortbildung zu sich in die eigene Einrichtung zu holen. Gerne möchten wir in den Webinaren auch eine Plattform bieten zum Erfahrungsaustausch und zur Vernetzung für Kursleitungen und Bibliotheksmitarbeitende mit Vorerfahrung in diesem Themenbereich. Wir richten uns diesbezüglich gerne nach den Wünschen der Teilnehmenden.
URL:https://mobil-digital.de/termine/webinar-brettspiele-und-making/
LOCATION:Online\, Link erhalten Sie nach Anmeldung
CATEGORIES:Fortbildung
END:VEVENT
END:VCALENDAR