BEGIN:VCALENDAR
VERSION:2.0
PRODID:-//Mobil Digital - ECPv6.15.17.1//NONSGML v1.0//EN
CALSCALE:GREGORIAN
METHOD:PUBLISH
X-WR-CALNAME:Mobil Digital
X-ORIGINAL-URL:https://mobil-digital.de
X-WR-CALDESC:Veranstaltungen für Mobil Digital
REFRESH-INTERVAL;VALUE=DURATION:PT1H
X-Robots-Tag:noindex
X-PUBLISHED-TTL:PT1H
BEGIN:VTIMEZONE
TZID:Europe/Berlin
BEGIN:DAYLIGHT
TZOFFSETFROM:+0100
TZOFFSETTO:+0200
TZNAME:CEST
DTSTART:20250330T010000
END:DAYLIGHT
BEGIN:STANDARD
TZOFFSETFROM:+0200
TZOFFSETTO:+0100
TZNAME:CET
DTSTART:20251026T010000
END:STANDARD
BEGIN:DAYLIGHT
TZOFFSETFROM:+0100
TZOFFSETTO:+0200
TZNAME:CEST
DTSTART:20260329T010000
END:DAYLIGHT
BEGIN:STANDARD
TZOFFSETFROM:+0200
TZOFFSETTO:+0100
TZNAME:CET
DTSTART:20261025T010000
END:STANDARD
BEGIN:DAYLIGHT
TZOFFSETFROM:+0100
TZOFFSETTO:+0200
TZNAME:CEST
DTSTART:20270328T010000
END:DAYLIGHT
BEGIN:STANDARD
TZOFFSETFROM:+0200
TZOFFSETTO:+0100
TZNAME:CET
DTSTART:20271031T010000
END:STANDARD
END:VTIMEZONE
BEGIN:VEVENT
DTSTART;TZID=Europe/Berlin:20260218T000000
DTEND;TZID=Europe/Berlin:20260218T235959
DTSTAMP:20260421T005834
CREATED:20260204T102210Z
LAST-MODIFIED:20260204T102217Z
UID:1887-1771372800-1771459199@mobil-digital.de
SUMMARY:Robotikfortbildung Fahrbibliotheken
DESCRIPTION:Gemeinsam mit Mitarbeitenden der Fahrbibliotheken in Schleswig-Holstein lernen wir verschiedene Roboter kennen und probieren aus\, wie sie für die Veranstaltungsarbeit der Fahrbibliotheken genutzt werden können.
URL:https://mobil-digital.de/termine/robotikfortbildung-fahrbibliotheken/
CATEGORIES:Fortbildung
ATTACH;FMTTYPE=image/jpeg:https://mobil-digital.de/wp-content/uploads/2025/03/220511_Logo_mobildigital.jpg
END:VEVENT
BEGIN:VEVENT
DTSTART;TZID=Europe/Berlin:20260223T170000
DTEND;TZID=Europe/Berlin:20260223T180000
DTSTAMP:20260421T005834
CREATED:20251016T081701Z
LAST-MODIFIED:20260108T064615Z
UID:1773-1771866000-1771869600@mobil-digital.de
SUMMARY:Webinar: Jugendliche als Programmmacher*innen in Bibliothek und Volkshochschule (Nachholtermin)
DESCRIPTION:Im Gespräch mit Andrea Frahm aus der Gemeindebücherei Flintbek und Herle Forbrich\, vhs Leck \n\n\n\nJugendliche können nicht nur in Peer-to-Peer-Workshops ihr Wissen an Gleichaltrige weitergeben\, sondern zeigen in diversen Projekten\, wie sie mit viel Umsicht und Kompetenz allen Altersgruppen die digitale Teilhabe ermöglichen – sei es als „Mediencoach“ an der Schule für jüngere Schüler*innen oder als „Patenenkel*innen“\, die Senior*innen digitales KowHow vermitteln. \n\n\n\nAndrea Frahm\, Leiterin der Gemeindebücherei Flintbek\, hat dieses Potential 2022 erkannt. Seitdem bezieht sich der Begriff „Checker“ dort auf Personen unter 18 Jahren\, die sich durch Workshops qualifiziert haben und jetzt die von der Bücherei angeschafften digitalen Geräte und Technologien selbstständig nutzen. Sie sind als „Projektbotschafter“ dafür zuständig\, die neuen und bestehenden Projekte der Bücherei zu erklären und ihr Wissen als Expert*innen an Nutzer*innen jedes Alters weiterzugeben (z.B. im Rahmen des „Open Makerspace“ oder bei der FLC-Abschlussparty). Wie sich das Projekt seit 2022 entwickelt hat und welche Pläne sie für die Zukunft hat\, erzählt Andrea Frahm in unserem Webinar. Alle Teilnehmer*innen sind herzlich eingeladen\, eigene ähnliche Erfahrungen mit uns zu teilen und Fragen mitzubringen. \n\n\n\nAuch Volkshochschulen haben die Möglichkeit\, Kursleitungen zu engagieren\, die unter 18 Jahren alt sind. Daher richten wir den Blick im Webinar auch auf die Fragen\, welche Potentiale sich dadurch für Volkshochschulen eröffnen und wie eine Einbindung jugendlicher Programmleitungen in der Praxis aussehen kann. Dr. Herle Forbrich aus Leck hat an ihrer vhs gute Erfahrungen mit U18-Kursleitungen für Smartphonekurse gesammelt und wird davon berichten. \n\n\n\nAnmeldung bitte per E-Mail an info@mobil-digital.de. \n\n\n\nHinweis zu unseren einstündigen Webinaren: Mit unseren kurzen Webinaren möchten wir die Tür öffnen zu neuen Themen und Angeboten. Wir möchten so u.a. Kursleitungen und Bibliotheksmitarbeitenden die Möglichkeit bieten\, in ein Thema reinzuschnuppern und zu überlegen\, ob sie es in ihre bestehenden Kurse und Veranstaltungskonzepte integrieren oder neue Kurse dazu anbieten möchten. Es besteht die Möglichkeit\, anschließend eine intensive kostenfreie Fortbildung zu sich in die eigene Einrichtung zu holen. Gerne möchten wir in den Webinaren auch eine Plattform bieten zum Erfahrungsaustausch und zur Vernetzung für Kursleitungen und Bibliotheksmitarbeitende mit Vorerfahrung in diesem Themenbereich. Wir richten uns diesbezüglich gerne nach den Wünschen der Teilnehmenden.
URL:https://mobil-digital.de/termine/webinar-jugendliche-als-programmmacherinnen-in-bibliothek-und-volkshochschule/
CATEGORIES:Fortbildung
ATTACH;FMTTYPE=image/png:https://mobil-digital.de/wp-content/uploads/2025/03/Zeichenflaeche-3.png
END:VEVENT
BEGIN:VEVENT
DTSTART;TZID=Europe/Berlin:20260226T000000
DTEND;TZID=Europe/Berlin:20260226T235959
DTSTAMP:20260421T005834
CREATED:20260204T090513Z
LAST-MODIFIED:20260204T090520Z
UID:1882-1772064000-1772150399@mobil-digital.de
SUMMARY:Rendsburg: Digitaler Entdeckertag
DESCRIPTION:Zusammen mit den Digitalen Knotenpunkten Materialhof Rendsburg und Digitalzentrum Süderbrarup (DiZ) gestalten wir einen Tag zum Entdecken kreativer Digitalangebote für Teilnehmende der Berufsbildungsmaßnahmen der sechs Werkstätten im Kreis Rendsburg-Eckernförde.
URL:https://mobil-digital.de/termine/rendsburg-digitaler-entdeckertag/
CATEGORIES:Workshop
ATTACH;FMTTYPE=image/gif:https://mobil-digital.de/wp-content/uploads/2025/02/einsatzorte-modi-bis-2024.gif
END:VEVENT
BEGIN:VEVENT
DTSTART;TZID=Europe/Berlin:20260228T110000
DTEND;TZID=Europe/Berlin:20260228T170000
DTSTAMP:20260421T005834
CREATED:20260204T091059Z
LAST-MODIFIED:20260204T093129Z
UID:1884-1772276400-1772298000@mobil-digital.de
SUMMARY:Laboe: Neueröffnung Bücherei
DESCRIPTION:Die Gemeindebücherei Laboe lädt zur Neueröffnung direkt am Hafen — und mobil.digital feiert mit mit einem Mitmachangebot rund ums Thema Robotik. \n\n\n\nBesucher*innen sind herzlich willkommen\, die neuen Räumlichkeiten der Bücherei „Hafenbörse“ kennenzulernenGemeindebücherei Laboe\, Börn 6\, Laboe
URL:https://mobil-digital.de/termine/laboe-neueroeffnung-buecherei/
CATEGORIES:Öffentliche Veranstaltung
ATTACH;FMTTYPE=image/gif:https://mobil-digital.de/wp-content/uploads/2025/02/einsatzorte-modi-bis-2024.gif
END:VEVENT
END:VCALENDAR